flight 184818 ovmf real [real] http://logs.test-lab.xenproject.org/osstest/logs/184818/
Perfect :-) All tests in this flight passed as required version targeted for testing: ovmf dc7cfa9bab7487aa0cec02d13aa8c34ff24b37a8 baseline version: ovmf d9a6e7b0b8a67392a57788d97634256546207a64 Last test of basis 184815 2024-02-29 03:41:16 Z 0 days Testing same since 184818 2024-02-29 10:11:15 Z 0 days 1 attempts ------------------------------------------------------------ People who touched revisions under test: Ard Biesheuvel <a...@kernel.org> Gerd Hoffmann <kra...@redhat.com> Laszlo Ersek <ler...@redhat.com> jobs: build-amd64-xsm pass build-i386-xsm pass build-amd64 pass build-i386 pass build-amd64-libvirt pass build-i386-libvirt pass build-amd64-pvops pass build-i386-pvops pass test-amd64-amd64-xl-qemuu-ovmf-amd64 pass test-amd64-i386-xl-qemuu-ovmf-amd64 pass ------------------------------------------------------------ sg-report-flight on osstest.test-lab.xenproject.org logs: /home/logs/logs images: /home/logs/images Logs, config files, etc. are available at http://logs.test-lab.xenproject.org/osstest/logs Explanation of these reports, and of osstest in general, is at http://xenbits.xen.org/gitweb/?p=osstest.git;a=blob;f=README.email;hb=master http://xenbits.xen.org/gitweb/?p=osstest.git;a=blob;f=README;hb=master Test harness code can be found at http://xenbits.xen.org/gitweb?p=osstest.git;a=summary Pushing revision : To xenbits.xen.org:/home/xen/git/osstest/ovmf.git d9a6e7b0b8..dc7cfa9bab dc7cfa9bab7487aa0cec02d13aa8c34ff24b37a8 -> xen-tested-master