flight 184717 ovmf real [real] http://logs.test-lab.xenproject.org/osstest/logs/184717/
Perfect :-) All tests in this flight passed as required version targeted for testing: ovmf 2ca8d559744319025592df10ada0f714fc3b8e15 baseline version: ovmf edc6681206c1a8791981a2f911d2fb8b3d2f5768 Last test of basis 184669 2024-02-14 17:44:06 Z 6 days Testing same since 184717 2024-02-21 01:43:32 Z 0 days 1 attempts ------------------------------------------------------------ People who touched revisions under test: Jiaxin Wu <jiaxin...@intel.com> jobs: build-amd64-xsm pass build-i386-xsm pass build-amd64 pass build-i386 pass build-amd64-libvirt pass build-i386-libvirt pass build-amd64-pvops pass build-i386-pvops pass test-amd64-amd64-xl-qemuu-ovmf-amd64 pass test-amd64-i386-xl-qemuu-ovmf-amd64 pass ------------------------------------------------------------ sg-report-flight on osstest.test-lab.xenproject.org logs: /home/logs/logs images: /home/logs/images Logs, config files, etc. are available at http://logs.test-lab.xenproject.org/osstest/logs Explanation of these reports, and of osstest in general, is at http://xenbits.xen.org/gitweb/?p=osstest.git;a=blob;f=README.email;hb=master http://xenbits.xen.org/gitweb/?p=osstest.git;a=blob;f=README;hb=master Test harness code can be found at http://xenbits.xen.org/gitweb?p=osstest.git;a=summary Pushing revision : To xenbits.xen.org:/home/xen/git/osstest/ovmf.git edc6681206..2ca8d55974 2ca8d559744319025592df10ada0f714fc3b8e15 -> xen-tested-master