flight 183868 linux-linus real [real] http://logs.test-lab.xenproject.org/osstest/logs/183868/
Failures and problems with tests :-( Tests which did not succeed and are blocking, including tests which could not be run: build-amd64 <job status> broken build-amd64-pvops <job status> broken build-amd64-xsm <job status> broken build-arm64 <job status> broken build-arm64-pvops <job status> broken build-arm64-xsm <job status> broken build-armhf <job status> broken build-armhf-pvops <job status> broken build-i386 <job status> broken build-i386-pvops <job status> broken build-i386-xsm <job status> broken build-i386-xsm 4 host-install(4) broken REGR. vs. 183859 build-i386 4 host-install(4) broken REGR. vs. 183859 build-i386-pvops 4 host-install(4) broken REGR. vs. 183859 build-arm64 4 host-install(4) broken REGR. vs. 183859 build-arm64-pvops 4 host-install(4) broken REGR. vs. 183859 build-arm64-xsm 4 host-install(4) broken REGR. vs. 183859 build-amd64 4 host-install(4) broken REGR. vs. 183859 build-amd64-xsm 4 host-install(4) broken REGR. vs. 183859 build-amd64-pvops 4 host-install(4) broken REGR. vs. 183859 build-armhf-pvops 4 host-install(4) broken REGR. vs. 183859 build-armhf 4 host-install(4) broken REGR. vs. 183859 Tests which did not succeed, but are not blocking: test-arm64-arm64-libvirt-xsm 1 build-check(1) blocked n/a test-arm64-arm64-xl 1 build-check(1) blocked n/a test-arm64-arm64-xl-credit1 1 build-check(1) blocked n/a test-arm64-arm64-xl-credit2 1 build-check(1) blocked n/a test-arm64-arm64-xl-thunderx 1 build-check(1) blocked n/a test-arm64-arm64-xl-vhd 1 build-check(1) blocked n/a test-arm64-arm64-xl-xsm 1 build-check(1) blocked n/a test-armhf-armhf-examine 1 build-check(1) blocked n/a test-armhf-armhf-libvirt 1 build-check(1) blocked n/a test-armhf-armhf-libvirt-qcow2 1 build-check(1) blocked n/a test-armhf-armhf-libvirt-raw 1 build-check(1) blocked n/a test-armhf-armhf-xl 1 build-check(1) blocked n/a test-armhf-armhf-xl-arndale 1 build-check(1) blocked n/a test-armhf-armhf-xl-credit1 1 build-check(1) blocked n/a test-armhf-armhf-xl-credit2 1 build-check(1) blocked n/a test-armhf-armhf-xl-multivcpu 1 build-check(1) blocked n/a test-armhf-armhf-xl-rtds 1 build-check(1) blocked n/a test-armhf-armhf-xl-vhd 1 build-check(1) blocked n/a test-arm64-arm64-examine 1 build-check(1) blocked n/a test-amd64-coresched-amd64-xl 1 build-check(1) blocked n/a test-amd64-amd64-xl-xsm 1 build-check(1) blocked n/a test-amd64-amd64-xl-vhd 1 build-check(1) blocked n/a test-amd64-amd64-xl-shadow 1 build-check(1) blocked n/a test-amd64-amd64-xl-rtds 1 build-check(1) blocked n/a test-amd64-amd64-xl-qemuu-ws16-amd64 1 build-check(1) blocked n/a test-amd64-amd64-xl-qemuu-win7-amd64 1 build-check(1) blocked n/a test-amd64-amd64-xl-qemuu-ovmf-amd64 1 build-check(1) blocked n/a test-amd64-amd64-xl-qemuu-dmrestrict-amd64-dmrestrict 1 build-check(1) blocked n/a test-amd64-amd64-xl-qemuu-debianhvm-i386-xsm 1 build-check(1) blocked n/a test-amd64-amd64-xl-qemuu-debianhvm-amd64-shadow 1 build-check(1) blocked n/a build-amd64-libvirt 1 build-check(1) blocked n/a test-amd64-amd64-xl-qemuu-debianhvm-amd64 1 build-check(1) blocked n/a test-amd64-amd64-xl-qemut-ws16-amd64 1 build-check(1) blocked n/a build-arm64-libvirt 1 build-check(1) blocked n/a test-amd64-amd64-xl-qemut-win7-amd64 1 build-check(1) blocked n/a test-amd64-amd64-xl-qemut-stubdom-debianhvm-amd64-xsm 1 build-check(1) blocked n/a test-amd64-amd64-xl-qemut-debianhvm-i386-xsm 1 build-check(1) blocked n/a build-armhf-libvirt 1 build-check(1) blocked n/a test-amd64-amd64-xl-qemut-debianhvm-amd64 1 build-check(1) blocked n/a build-i386-libvirt 1 build-check(1) blocked n/a test-amd64-amd64-xl-pvshim 1 build-check(1) blocked n/a test-amd64-amd64-dom0pvh-xl-amd 1 build-check(1) blocked n/a test-amd64-amd64-xl-pvhv2-intel 1 build-check(1) blocked n/a test-amd64-amd64-dom0pvh-xl-intel 1 build-check(1) blocked n/a test-amd64-amd64-xl-pvhv2-amd 1 build-check(1) blocked n/a test-amd64-amd64-examine 1 build-check(1) blocked n/a test-amd64-amd64-examine-bios 1 build-check(1) blocked n/a test-amd64-amd64-examine-uefi 1 build-check(1) blocked n/a test-amd64-amd64-xl-multivcpu 1 build-check(1) blocked n/a test-amd64-amd64-freebsd11-amd64 1 build-check(1) blocked n/a test-amd64-amd64-freebsd12-amd64 1 build-check(1) blocked n/a test-amd64-amd64-xl-credit2 1 build-check(1) blocked n/a test-amd64-amd64-libvirt 1 build-check(1) blocked n/a test-amd64-amd64-libvirt-pair 1 build-check(1) blocked n/a test-amd64-amd64-xl-credit1 1 build-check(1) blocked n/a test-amd64-amd64-libvirt-qcow2 1 build-check(1) blocked n/a test-amd64-amd64-libvirt-qemuu-debianhvm-amd64-xsm 1 build-check(1) blocked n/a test-amd64-amd64-xl 1 build-check(1) blocked n/a test-amd64-amd64-libvirt-raw 1 build-check(1) blocked n/a test-amd64-amd64-libvirt-xsm 1 build-check(1) blocked n/a test-amd64-amd64-qemuu-nested-intel 1 build-check(1) blocked n/a test-amd64-amd64-pair 1 build-check(1) blocked n/a test-amd64-amd64-pygrub 1 build-check(1) blocked n/a test-amd64-amd64-qemuu-nested-amd 1 build-check(1) blocked n/a test-arm64-arm64-libvirt-raw 1 build-check(1) blocked n/a version targeted for testing: linux 2cc14f52aeb78ce3f29677c2de1f06c0e91471ab baseline version: linux b46ae77f67874918c540feb1e37a63308b2c9290 Last test of basis 183859 2023-11-25 22:13:34 Z 1 days Failing since 183862 2023-11-26 04:55:31 Z 1 days 4 attempts Testing same since 183868 2023-11-27 06:55:04 Z 0 days 1 attempts ------------------------------------------------------------ People who touched revisions under test: Alexander Stein <alexander.st...@ew.tq-group.com> Andrea della Porta <andrea.po...@suse.com> Andrew Halaney <ahala...@redhat.com> Asuna Yang <sprite...@gmail.com> Badhri Jagan Sridharan <bad...@google.com> Borislav Petkov (AMD) <b...@alien8.de> Christophe JAILLET <christophe.jail...@wanadoo.fr> Chunfeng Yun <chunfeng....@mediatek.com> Conor Dooley <conor.doo...@microchip.com> Dapeng Mi <dapeng1...@linux.intel.com> Francesco Dolcini <francesco.dolc...@toradex.com> Gil Fine <gil.f...@linux.intel.com> Greg Kroah-Hartman <gre...@linuxfoundation.org> Hans de Goede <hdego...@redhat.com> Heikki Krogerus <heikki.kroge...@linux.intel.com> Heikki Krogeus <heikki.kroge...@linux.intel.com> Helge Deller <del...@gmx.de> Ingo Molnar <mi...@kernel.org> Ivan Ivanov <ivan.iva...@suse.com> Johan Hovold <johan+lin...@kernel.org> Johan Hovold <jo...@kernel.org> Kent Overstreet <kent.overstr...@linux.dev> Krzysztof Kozlowski <krzysztof.kozlow...@linaro.org> Lech Perczak <lech.perc...@gmail.com> Linus Torvalds <torva...@linux-foundation.org> Masami Hiramatsu (Google) <mhira...@kernel.org> Mathias Nyman <mathias.ny...@linux.intel.com> Mathieu Desnoyers <mathieu.desnoy...@efficios.com> Matthias Kaehlcke <m...@chromium.org> Mika Westerberg <mika.westerb...@linux.intel.com> Niklas Neronin <niklas.nero...@linux.intel.com> Oliver Neukum <oneu...@suse.com> Paulo Alcantara (SUSE) <p...@manguebit.com> Paulo Alcantara <p...@manguebit.com> Pawel Laszczak <paw...@cadence.com> Pengfei Xu <pengfei...@intel.com> Peter Chen <peter.c...@kernel.org> Peter Zijlstra (Intel) <pet...@infradead.org> Peter Zijlstra <pet...@infradead.org> Puliang Lu <puliang...@fibocom.com> Ricardo Ribalda <riba...@chromium.org> Ritvik Budhiraja <rbudhir...@microsoft.com> Shawn Guo <shawn....@linaro.org> Stanley Chang <stanley_ch...@realtek.com> Stefan Eichenberger <stefan.eichenber...@toradex.com> Steve French <stfre...@microsoft.com> Steven Rostedt (Google) <rost...@goodmis.org> Thinh Nguyen <thinh.ngu...@synopsys.com> Victor Fragoso <victor...@hotmail.com> Wentong Wu <wentong...@intel.com> Will McVicker <willmcvic...@google.com> Yangyu Chen <c...@cyyself.name> jobs: build-amd64-xsm broken build-arm64-xsm broken build-i386-xsm broken build-amd64 broken build-arm64 broken build-armhf broken build-i386 broken build-amd64-libvirt blocked build-arm64-libvirt blocked build-armhf-libvirt blocked build-i386-libvirt blocked build-amd64-pvops broken build-arm64-pvops broken build-armhf-pvops broken build-i386-pvops broken test-amd64-amd64-xl blocked test-amd64-coresched-amd64-xl blocked test-arm64-arm64-xl blocked test-armhf-armhf-xl blocked test-amd64-amd64-libvirt-qemuu-debianhvm-amd64-xsm blocked test-amd64-amd64-xl-qemut-stubdom-debianhvm-amd64-xsm blocked test-amd64-amd64-xl-qemut-debianhvm-i386-xsm blocked test-amd64-amd64-xl-qemuu-debianhvm-i386-xsm blocked test-amd64-amd64-libvirt-xsm blocked test-arm64-arm64-libvirt-xsm blocked test-amd64-amd64-xl-xsm blocked test-arm64-arm64-xl-xsm blocked test-amd64-amd64-qemuu-nested-amd blocked test-amd64-amd64-xl-pvhv2-amd blocked test-amd64-amd64-dom0pvh-xl-amd blocked test-amd64-amd64-xl-qemut-debianhvm-amd64 blocked test-amd64-amd64-xl-qemuu-debianhvm-amd64 blocked test-amd64-amd64-freebsd11-amd64 blocked test-amd64-amd64-freebsd12-amd64 blocked test-amd64-amd64-xl-qemuu-ovmf-amd64 blocked test-amd64-amd64-xl-qemut-win7-amd64 blocked test-amd64-amd64-xl-qemuu-win7-amd64 blocked test-amd64-amd64-xl-qemut-ws16-amd64 blocked test-amd64-amd64-xl-qemuu-ws16-amd64 blocked test-armhf-armhf-xl-arndale blocked test-amd64-amd64-examine-bios blocked test-amd64-amd64-xl-credit1 blocked test-arm64-arm64-xl-credit1 blocked test-armhf-armhf-xl-credit1 blocked test-amd64-amd64-xl-credit2 blocked test-arm64-arm64-xl-credit2 blocked test-armhf-armhf-xl-credit2 blocked test-amd64-amd64-xl-qemuu-dmrestrict-amd64-dmrestrict blocked test-amd64-amd64-examine blocked test-arm64-arm64-examine blocked test-armhf-armhf-examine blocked test-amd64-amd64-qemuu-nested-intel blocked test-amd64-amd64-xl-pvhv2-intel blocked test-amd64-amd64-dom0pvh-xl-intel blocked test-amd64-amd64-libvirt blocked test-armhf-armhf-libvirt blocked test-amd64-amd64-xl-multivcpu blocked test-armhf-armhf-xl-multivcpu blocked test-amd64-amd64-pair blocked test-amd64-amd64-libvirt-pair blocked test-amd64-amd64-xl-pvshim blocked test-amd64-amd64-pygrub blocked test-amd64-amd64-libvirt-qcow2 blocked test-armhf-armhf-libvirt-qcow2 blocked test-amd64-amd64-libvirt-raw blocked test-arm64-arm64-libvirt-raw blocked test-armhf-armhf-libvirt-raw blocked test-amd64-amd64-xl-rtds blocked test-armhf-armhf-xl-rtds blocked test-amd64-amd64-xl-qemuu-debianhvm-amd64-shadow blocked test-amd64-amd64-xl-shadow blocked test-arm64-arm64-xl-thunderx blocked test-amd64-amd64-examine-uefi blocked test-amd64-amd64-xl-vhd blocked test-arm64-arm64-xl-vhd blocked test-armhf-armhf-xl-vhd blocked ------------------------------------------------------------ sg-report-flight on osstest.test-lab.xenproject.org logs: /home/logs/logs images: /home/logs/images Logs, config files, etc. are available at http://logs.test-lab.xenproject.org/osstest/logs Explanation of these reports, and of osstest in general, is at http://xenbits.xen.org/gitweb/?p=osstest.git;a=blob;f=README.email;hb=master http://xenbits.xen.org/gitweb/?p=osstest.git;a=blob;f=README;hb=master Test harness code can be found at http://xenbits.xen.org/gitweb?p=osstest.git;a=summary broken-job build-amd64 broken broken-job build-amd64-pvops broken broken-job build-amd64-xsm broken broken-job build-arm64 broken broken-job build-arm64-pvops broken broken-job build-arm64-xsm broken broken-job build-armhf broken broken-job build-armhf-pvops broken broken-job build-i386 broken broken-job build-i386-pvops broken broken-job build-i386-xsm broken broken-step build-i386-xsm host-install(4) broken-step build-i386 host-install(4) broken-step build-i386-pvops host-install(4) broken-step build-arm64 host-install(4) broken-step build-arm64-pvops host-install(4) broken-step build-arm64-xsm host-install(4) broken-step build-amd64 host-install(4) broken-step build-amd64-xsm host-install(4) broken-step build-amd64-pvops host-install(4) broken-step build-armhf-pvops host-install(4) broken-step build-armhf host-install(4) Not pushing. (No revision log; it would be 1629 lines long.)