flight 176363 ovmf real [real] http://logs.test-lab.xenproject.org/osstest/logs/176363/
Perfect :-) All tests in this flight passed as required version targeted for testing: ovmf 7c138e400862a3a742489ca6f21d31afa9a3dd8a baseline version: ovmf 4d37059d8e1eeda124270a158416795605327cbd Last test of basis 176359 2023-02-04 04:40:49 Z 0 days Testing same since 176363 2023-02-04 11:26:05 Z 0 days 1 attempts ------------------------------------------------------------ People who touched revisions under test: Ard Biesheuvel <a...@kernel.org> jobs: build-amd64-xsm pass build-i386-xsm pass build-amd64 pass build-i386 pass build-amd64-libvirt pass build-i386-libvirt pass build-amd64-pvops pass build-i386-pvops pass test-amd64-amd64-xl-qemuu-ovmf-amd64 pass test-amd64-i386-xl-qemuu-ovmf-amd64 pass ------------------------------------------------------------ sg-report-flight on osstest.test-lab.xenproject.org logs: /home/logs/logs images: /home/logs/images Logs, config files, etc. are available at http://logs.test-lab.xenproject.org/osstest/logs Explanation of these reports, and of osstest in general, is at http://xenbits.xen.org/gitweb/?p=osstest.git;a=blob;f=README.email;hb=master http://xenbits.xen.org/gitweb/?p=osstest.git;a=blob;f=README;hb=master Test harness code can be found at http://xenbits.xen.org/gitweb?p=osstest.git;a=summary Pushing revision : To xenbits.xen.org:/home/xen/git/osstest/ovmf.git 4d37059d8e..7c138e4008 7c138e400862a3a742489ca6f21d31afa9a3dd8a -> xen-tested-master