flight 176359 ovmf real [real] http://logs.test-lab.xenproject.org/osstest/logs/176359/
Perfect :-) All tests in this flight passed as required version targeted for testing: ovmf 4d37059d8e1eeda124270a158416795605327cbd baseline version: ovmf 7623b4bf6a4541b1bc5ad1978f27a55f2fb62c5f Last test of basis 176356 2023-02-04 01:55:46 Z 0 days Testing same since 176359 2023-02-04 04:40:49 Z 0 days 1 attempts ------------------------------------------------------------ People who touched revisions under test: Gerd Hoffmann <kra...@redhat.com> Min M Xu <min.m...@intel.com> Min Xu <min.m...@intel.com> jobs: build-amd64-xsm pass build-i386-xsm pass build-amd64 pass build-i386 pass build-amd64-libvirt pass build-i386-libvirt pass build-amd64-pvops pass build-i386-pvops pass test-amd64-amd64-xl-qemuu-ovmf-amd64 pass test-amd64-i386-xl-qemuu-ovmf-amd64 pass ------------------------------------------------------------ sg-report-flight on osstest.test-lab.xenproject.org logs: /home/logs/logs images: /home/logs/images Logs, config files, etc. are available at http://logs.test-lab.xenproject.org/osstest/logs Explanation of these reports, and of osstest in general, is at http://xenbits.xen.org/gitweb/?p=osstest.git;a=blob;f=README.email;hb=master http://xenbits.xen.org/gitweb/?p=osstest.git;a=blob;f=README;hb=master Test harness code can be found at http://xenbits.xen.org/gitweb?p=osstest.git;a=summary Pushing revision : To xenbits.xen.org:/home/xen/git/osstest/ovmf.git 7623b4bf6a..4d37059d8e 4d37059d8e1eeda124270a158416795605327cbd -> xen-tested-master