flight 176278 ovmf real [real]
http://logs.test-lab.xenproject.org/osstest/logs/176278/

Perfect :-)
All tests in this flight passed as required
version targeted for testing:
 ovmf                 bb1376254803bfdaa012c62f1cf6d6b26161cfe7
baseline version:
 ovmf                 e7aac7fc137e247edad22f7ee53b9a1fba227397

Last test of basis   176248  2023-01-27 14:45:33 Z    2 days
Testing same since   176278  2023-01-30 07:40:53 Z    0 days    1 attempts

------------------------------------------------------------
People who touched revisions under test:
  Ard Biesheuvel <a...@kernel.org>
  Pierre Gondois <pierre.gond...@arm.com>

jobs:
 build-amd64-xsm                                              pass    
 build-i386-xsm                                               pass    
 build-amd64                                                  pass    
 build-i386                                                   pass    
 build-amd64-libvirt                                          pass    
 build-i386-libvirt                                           pass    
 build-amd64-pvops                                            pass    
 build-i386-pvops                                             pass    
 test-amd64-amd64-xl-qemuu-ovmf-amd64                         pass    
 test-amd64-i386-xl-qemuu-ovmf-amd64                          pass    


------------------------------------------------------------
sg-report-flight on osstest.test-lab.xenproject.org
logs: /home/logs/logs
images: /home/logs/images

Logs, config files, etc. are available at
    http://logs.test-lab.xenproject.org/osstest/logs

Explanation of these reports, and of osstest in general, is at
    http://xenbits.xen.org/gitweb/?p=osstest.git;a=blob;f=README.email;hb=master
    http://xenbits.xen.org/gitweb/?p=osstest.git;a=blob;f=README;hb=master

Test harness code can be found at
    http://xenbits.xen.org/gitweb?p=osstest.git;a=summary


Pushing revision :

To xenbits.xen.org:/home/xen/git/osstest/ovmf.git
   e7aac7fc13..bb13762548  bb1376254803bfdaa012c62f1cf6d6b26161cfe7 -> 
xen-tested-master

Reply via email to