flight 176000 ovmf real [real]
http://logs.test-lab.xenproject.org/osstest/logs/176000/

Perfect :-)
All tests in this flight passed as required
version targeted for testing:
 ovmf                 bf5678b5802685e07583e3c7ec56d883cbdd5da3
baseline version:
 ovmf                 51411435d559c55eaf38c02baf5d76da78bb658d

Last test of basis   175981  2023-01-19 12:43:49 Z    1 days
Testing same since   176000  2023-01-20 14:10:45 Z    0 days    1 attempts

------------------------------------------------------------
People who touched revisions under test:
  Ard Biesheuvel <a...@kernel.org>
  Gerd Hoffmann <kra...@redhat.com>
  Jiewen Yao <jiewen....@intel.com>
  Laszlo Ersek <ler...@redhat.com>

jobs:
 build-amd64-xsm                                              pass    
 build-i386-xsm                                               pass    
 build-amd64                                                  pass    
 build-i386                                                   pass    
 build-amd64-libvirt                                          pass    
 build-i386-libvirt                                           pass    
 build-amd64-pvops                                            pass    
 build-i386-pvops                                             pass    
 test-amd64-amd64-xl-qemuu-ovmf-amd64                         pass    
 test-amd64-i386-xl-qemuu-ovmf-amd64                          pass    


------------------------------------------------------------
sg-report-flight on osstest.test-lab.xenproject.org
logs: /home/logs/logs
images: /home/logs/images

Logs, config files, etc. are available at
    http://logs.test-lab.xenproject.org/osstest/logs

Explanation of these reports, and of osstest in general, is at
    http://xenbits.xen.org/gitweb/?p=osstest.git;a=blob;f=README.email;hb=master
    http://xenbits.xen.org/gitweb/?p=osstest.git;a=blob;f=README;hb=master

Test harness code can be found at
    http://xenbits.xen.org/gitweb?p=osstest.git;a=summary


Pushing revision :

To xenbits.xen.org:/home/xen/git/osstest/ovmf.git
   51411435d5..bf5678b580  bf5678b5802685e07583e3c7ec56d883cbdd5da3 -> 
xen-tested-master

Reply via email to