flight 122509 xen-unstable-coverity real [real] http://logs.test-lab.xenproject.org/osstest/logs/122509/
Perfect :-) All tests in this flight passed as required version targeted for testing: xen eff2fbe4dd71b3e4fe2dbb2696882252c1cc7897 baseline version: xen 27170adb54a558e11defcd51989326a9beb95afe Last test of basis 122409 2018-04-25 09:18:40 Z 4 days Testing same since 122509 2018-04-29 09:18:51 Z 0 days 1 attempts ------------------------------------------------------------ People who touched revisions under test: Andrew Cooper <andrew.coop...@citrix.com> Anthony PERARD <anthony.per...@citrix.com> George Dunlap <george.dun...@citrix.com> Ian Jackson <ian.jack...@eu.citrix.com> Jan Beulich <jbeul...@suse.com> Juergen Gross <jgr...@suse.com> Wei Liu <wei.l...@citrix.com> jobs: coverity-amd64 pass ------------------------------------------------------------ sg-report-flight on osstest.test-lab.xenproject.org logs: /home/logs/logs images: /home/logs/images Logs, config files, etc. are available at http://logs.test-lab.xenproject.org/osstest/logs Explanation of these reports, and of osstest in general, is at http://xenbits.xen.org/gitweb/?p=osstest.git;a=blob;f=README.email;hb=master http://xenbits.xen.org/gitweb/?p=osstest.git;a=blob;f=README;hb=master Test harness code can be found at http://xenbits.xen.org/gitweb?p=osstest.git;a=summary Pushing revision : To xenbits.xen.org:/home/xen/git/xen.git 27170adb54..eff2fbe4dd eff2fbe4dd71b3e4fe2dbb2696882252c1cc7897 -> coverity-tested/smoke _______________________________________________ Xen-devel mailing list Xen-devel@lists.xenproject.org https://lists.xenproject.org/mailman/listinfo/xen-devel