flight 175441 ovmf real [real] http://logs.test-lab.xenproject.org/osstest/logs/175441/
Perfect :-) All tests in this flight passed as required version targeted for testing: ovmf 0b633b14944903c32aa061befaf38bd8d994cf13 baseline version: ovmf d103840cfb559c28831c2635b916d60118f671cc Last test of basis 175202 2022-12-14 13:42:59 Z 7 days Failing since 175214 2022-12-14 18:42:16 Z 6 days 41 attempts Testing same since 175441 2022-12-21 11:13:47 Z 0 days 1 attempts ------------------------------------------------------------ People who touched revisions under test: Abner Chang <abner.ch...@amd.com> Adam Dunlap <acdun...@google.com> Anthony PERARD <anthony.per...@citrix.com> Ard Biesheuvel <a...@kernel.org> Chun-Yi Lee <j...@suse.com> Chun-Yi Lee <joeyli.ker...@gmail.com> de...@edk2.groups.io <de...@edk2.groups.io> Dov Murik <dovmu...@linux.ibm.com> Gerd Hoffmann <kra...@redhat.com> jdzhang <jdzh...@kunluntech.com.cn> Jeff Brasen <jbra...@nvidia.com> Jeshua Smith <jesh...@nvidia.com> Jian J Wang <jian.j.w...@intel.com> Jiaqi Gao <jiaqi....@intel.com> Jiewen Yao <jiewen....@intel.com> Judah Vang <judah.v...@intel.com> Kavya <k.kavyax.sravan...@intel.com> Kuo, Ted <ted....@intel.com> MarsX Lin <marsx....@intel.com> Matt DeVillier <matt.devill...@gmail.com> Michael D Kinney <michael.d.kin...@intel.com> Michael Kubacki <michael.kuba...@microsoft.com> Min M Xu <min.m...@intel.com> Min Xu <min.m...@intel.com> Nishant C Mistry <nishant.c.mis...@intel.com> Ray Ni <ray...@intel.com> Rebecca Cran <quic_rc...@quicinc.com> Rebecca Cran <rebe...@quicinc.com> Sean Rhodes <sean@starlabs.systems> Sebastien Boeuf <sebastien.bo...@intel.com> Ted Kuo <ted....@intel.com> Tom Lendacky <thomas.lenda...@amd.com> Xie, Yuanhao <yuanhao....@intel.com> Yuanhao Xie <yuanhao....@intel.com> jobs: build-amd64-xsm pass build-i386-xsm pass build-amd64 pass build-i386 pass build-amd64-libvirt pass build-i386-libvirt pass build-amd64-pvops pass build-i386-pvops pass test-amd64-amd64-xl-qemuu-ovmf-amd64 pass test-amd64-i386-xl-qemuu-ovmf-amd64 pass ------------------------------------------------------------ sg-report-flight on osstest.test-lab.xenproject.org logs: /home/logs/logs images: /home/logs/images Logs, config files, etc. are available at http://logs.test-lab.xenproject.org/osstest/logs Explanation of these reports, and of osstest in general, is at http://xenbits.xen.org/gitweb/?p=osstest.git;a=blob;f=README.email;hb=master http://xenbits.xen.org/gitweb/?p=osstest.git;a=blob;f=README;hb=master Test harness code can be found at http://xenbits.xen.org/gitweb?p=osstest.git;a=summary Pushing revision : To xenbits.xen.org:/home/xen/git/osstest/ovmf.git d103840cfb..0b633b1494 0b633b14944903c32aa061befaf38bd8d994cf13 -> xen-tested-master