flight 173481 ovmf real [real] http://logs.test-lab.xenproject.org/osstest/logs/173481/
Perfect :-) All tests in this flight passed as required version targeted for testing: ovmf 3c9e2f239a38590b4e3a8c1ec2304227f2af0103 baseline version: ovmf de103f1981cfca90dd19296d4b20449a2b93dc26 Last test of basis 173472 2022-10-08 11:13:08 Z 1 days Testing same since 173481 2022-10-10 01:11:51 Z 0 days 1 attempts ------------------------------------------------------------ People who touched revisions under test: Yuan Yu <yua...@google.com> jobs: build-amd64-xsm pass build-i386-xsm pass build-amd64 pass build-i386 pass build-amd64-libvirt pass build-i386-libvirt pass build-amd64-pvops pass build-i386-pvops pass test-amd64-amd64-xl-qemuu-ovmf-amd64 pass test-amd64-i386-xl-qemuu-ovmf-amd64 pass ------------------------------------------------------------ sg-report-flight on osstest.test-lab.xenproject.org logs: /home/logs/logs images: /home/logs/images Logs, config files, etc. are available at http://logs.test-lab.xenproject.org/osstest/logs Explanation of these reports, and of osstest in general, is at http://xenbits.xen.org/gitweb/?p=osstest.git;a=blob;f=README.email;hb=master http://xenbits.xen.org/gitweb/?p=osstest.git;a=blob;f=README;hb=master Test harness code can be found at http://xenbits.xen.org/gitweb?p=osstest.git;a=summary Pushing revision : To xenbits.xen.org:/home/xen/git/osstest/ovmf.git de103f1981..3c9e2f239a 3c9e2f239a38590b4e3a8c1ec2304227f2af0103 -> xen-tested-master