flight 168128 xen-unstable-coverity real [real]
http://logs.test-lab.xenproject.org/osstest/logs/168128/

Perfect :-)
All tests in this flight passed as required
version targeted for testing:
 xen                  e7c2017cf4a91ab6a0fea6adca2d9dd2ab1603b0
baseline version:
 xen                  87319afb96973213ec0a76270d93696f3b8d6743

Last test of basis   168100  2022-02-13 09:18:29 Z    3 days
Testing same since   168128  2022-02-16 09:19:44 Z    0 days    1 attempts

------------------------------------------------------------
People who touched revisions under test:
  Andrew Cooper <andrew.coop...@citrix.com>
  Jan Beulich <jbeul...@suse.com>
  Norbert Manthey <nmant...@amazon.de>
  Roger Pau Monné <roger....@citrix.com>
  Stefano Stabellini <sstabell...@kernel.org>
  Stefano Stabellini <stefano.stabell...@xilinx.com>

jobs:
 coverity-amd64                                               pass    


------------------------------------------------------------
sg-report-flight on osstest.test-lab.xenproject.org
logs: /home/logs/logs
images: /home/logs/images

Logs, config files, etc. are available at
    http://logs.test-lab.xenproject.org/osstest/logs

Explanation of these reports, and of osstest in general, is at
    http://xenbits.xen.org/gitweb/?p=osstest.git;a=blob;f=README.email;hb=master
    http://xenbits.xen.org/gitweb/?p=osstest.git;a=blob;f=README;hb=master

Test harness code can be found at
    http://xenbits.xen.org/gitweb?p=osstest.git;a=summary


Pushing revision :

To xenbits.xen.org:/home/xen/git/xen.git
   87319afb96..e7c2017cf4  e7c2017cf4a91ab6a0fea6adca2d9dd2ab1603b0 -> 
coverity-tested/smoke

Reply via email to