flight 165453 xen-unstable-coverity real [real] http://logs.test-lab.xenproject.org/osstest/logs/165453/
Perfect :-) All tests in this flight passed as required version targeted for testing: xen 664cc3c3d381e4f9a61dcb68cbd7a6a00070370e baseline version: xen 192aaf7e146c0b41dbdd35ccdb13eb33ced13633 Last test of basis 165397 2021-10-06 09:21:13 Z 4 days Testing same since 165453 2021-10-10 09:19:39 Z 0 days 1 attempts ------------------------------------------------------------ People who touched revisions under test: Andrew Cooper <andrew.coop...@citrix.com> Anthony PERARD <anthony.per...@citrix.com> Bob Eshleman <bobbyeshle...@gmail.com> Christian Lindig <christian.lin...@citrix.com> Connor Davis <connojda...@gmail.com> Jan Beulich <jbeul...@suse.com> Oleksandr Andrushchenko <oleksandr_andrushche...@epam.com> Oleksandr Tyshchenko <oleksandr_tyshche...@epam.com> Rahul Singh <rahul.si...@arm.com> Stefano Stabellini <sstabell...@kernel.org> Stefano Stabellini <stefano.stabell...@xilinx.com> Volodymyr Babchuk <volodymyr_babc...@epam.com> jobs: coverity-amd64 pass ------------------------------------------------------------ sg-report-flight on osstest.test-lab.xenproject.org logs: /home/logs/logs images: /home/logs/images Logs, config files, etc. are available at http://logs.test-lab.xenproject.org/osstest/logs Explanation of these reports, and of osstest in general, is at http://xenbits.xen.org/gitweb/?p=osstest.git;a=blob;f=README.email;hb=master http://xenbits.xen.org/gitweb/?p=osstest.git;a=blob;f=README;hb=master Test harness code can be found at http://xenbits.xen.org/gitweb?p=osstest.git;a=summary Pushing revision : To xenbits.xen.org:/home/xen/git/xen.git 192aaf7e14..664cc3c3d3 664cc3c3d381e4f9a61dcb68cbd7a6a00070370e -> coverity-tested/smoke