flight 120991 ovmf real [real]
http://logs.test-lab.xenproject.org/osstest/logs/120991/

Perfect :-)
All tests in this flight passed as required
version targeted for testing:
 ovmf                 df67a480eb81821ba21ad6909e2fda287e745834
baseline version:
 ovmf                 ae38c9765a27264ecea03c6430b956b74a427213

Last test of basis   120951  2018-03-19 02:43:26 Z    3 days
Testing same since   120991  2018-03-20 12:58:39 Z    1 days    1 attempts

------------------------------------------------------------
People who touched revisions under test:
  Bob Feng <bob.c.f...@intel.com>
  Feng, Bob C <bob.c.f...@intel.com>
  Hao Wu <hao.a...@intel.com>
  Jiewen Yao <jiewen....@intel.com>
  Liming Gao <liming....@intel.com>
  Pete Batard <p...@akeo.ie>
  Ruiyu Ni <ruiyu...@intel.com>
  Star Zeng <star.z...@intel.com>
  Yonghong Zhu <yonghong....@intel.com>

jobs:
 build-amd64-xsm                                              pass    
 build-i386-xsm                                               pass    
 build-amd64                                                  pass    
 build-i386                                                   pass    
 build-amd64-libvirt                                          pass    
 build-i386-libvirt                                           pass    
 build-amd64-pvops                                            pass    
 build-i386-pvops                                             pass    
 test-amd64-amd64-xl-qemuu-ovmf-amd64                         pass    
 test-amd64-i386-xl-qemuu-ovmf-amd64                          pass    


------------------------------------------------------------
sg-report-flight on osstest.test-lab.xenproject.org
logs: /home/logs/logs
images: /home/logs/images

Logs, config files, etc. are available at
    http://logs.test-lab.xenproject.org/osstest/logs

Explanation of these reports, and of osstest in general, is at
    http://xenbits.xen.org/gitweb/?p=osstest.git;a=blob;f=README.email;hb=master
    http://xenbits.xen.org/gitweb/?p=osstest.git;a=blob;f=README;hb=master

Test harness code can be found at
    http://xenbits.xen.org/gitweb?p=osstest.git;a=summary


Pushing revision :

To xenbits.xen.org:/home/xen/git/osstest/ovmf.git
   ae38c9765a..df67a480eb  df67a480eb81821ba21ad6909e2fda287e745834 -> 
xen-tested-master

_______________________________________________
Xen-devel mailing list
Xen-devel@lists.xenproject.org
https://lists.xenproject.org/mailman/listinfo/xen-devel

Reply via email to