flight 164478 xen-unstable-coverity real [real] http://logs.test-lab.xenproject.org/osstest/logs/164478/
Perfect :-) All tests in this flight passed as required version targeted for testing: xen a931e8e64af07bd333a31f3b71a3f8f3e7910857 baseline version: xen 93713f444b3f29d6848527506db69cf78976b32d Last test of basis 164344 2021-08-22 09:18:28 Z 3 days Testing same since 164478 2021-08-25 09:18:31 Z 0 days 1 attempts ------------------------------------------------------------ People who touched revisions under test: Julien Grall <jgr...@amazon.com> Michal Orzel <michal.or...@arm.com> Oleksandr Andrushchenko <oleksandr_andrushche...@epam.com> Oleksandr Tyshchenko <oleksandr_tyshche...@epam.com> jobs: coverity-amd64 pass ------------------------------------------------------------ sg-report-flight on osstest.test-lab.xenproject.org logs: /home/logs/logs images: /home/logs/images Logs, config files, etc. are available at http://logs.test-lab.xenproject.org/osstest/logs Explanation of these reports, and of osstest in general, is at http://xenbits.xen.org/gitweb/?p=osstest.git;a=blob;f=README.email;hb=master http://xenbits.xen.org/gitweb/?p=osstest.git;a=blob;f=README;hb=master Test harness code can be found at http://xenbits.xen.org/gitweb?p=osstest.git;a=summary Pushing revision : To xenbits.xen.org:/home/xen/git/xen.git 93713f444b..a931e8e64a a931e8e64af07bd333a31f3b71a3f8f3e7910857 -> coverity-tested/smoke