flight 117377 xen-unstable-coverity real [real]
http://logs.test-lab.xenproject.org/osstest/logs/117377/

Perfect :-)
All tests in this flight passed as required
version targeted for testing:
 xen                  1b33150fe06ab9217f7f12b01bc5e607f4f55658
baseline version:
 xen                  ec320542e4f4de12305551ef5e3cd4d2ced85771

Last test of basis   117243  2017-12-17 09:19:03 Z    3 days
Testing same since   117377  2017-12-20 09:48:29 Z    0 days    1 attempts

------------------------------------------------------------
People who touched revisions under test:
  Ian Jackson <ian.jack...@eu.citrix.com>
  Roger Pau Monne <roger....@citrix.com>
  Roger Pau Monné <roger....@citrix.com>

jobs:
 coverity-amd64                                               pass    


------------------------------------------------------------
sg-report-flight on osstest.test-lab.xenproject.org
logs: /home/logs/logs
images: /home/logs/images

Logs, config files, etc. are available at
    http://logs.test-lab.xenproject.org/osstest/logs

Explanation of these reports, and of osstest in general, is at
    http://xenbits.xen.org/gitweb/?p=osstest.git;a=blob;f=README.email;hb=master
    http://xenbits.xen.org/gitweb/?p=osstest.git;a=blob;f=README;hb=master

Test harness code can be found at
    http://xenbits.xen.org/gitweb?p=osstest.git;a=summary


Pushing revision :

To osst...@xenbits.xen.org:/home/xen/git/xen.git
   ec32054..1b33150  1b33150fe06ab9217f7f12b01bc5e607f4f55658 -> 
coverity-tested/smoke

_______________________________________________
Xen-devel mailing list
Xen-devel@lists.xenproject.org
https://lists.xenproject.org/mailman/listinfo/xen-devel

Reply via email to