This run is configured for baseline tests only. flight 68405 linux-4.1 real [real] http://osstest.xs.citrite.net/~osstest/testlogs/logs/68405/
Failures and problems with tests :-( Tests which did not succeed and are blocking, including tests which could not be run: build-armhf 3 host-install(3) broken REGR. vs. 68290 build-armhf-xsm 3 host-install(3) broken REGR. vs. 68290 build-armhf-pvops 3 host-install(3) broken REGR. vs. 68290 build-amd64 3 host-install(3) broken REGR. vs. 68290 build-amd64-xsm 3 host-install(3) broken REGR. vs. 68290 build-amd64-pvops 3 host-install(3) broken REGR. vs. 68290 build-i386-pvops 3 host-install(3) broken REGR. vs. 68290 build-i386 3 host-install(3) broken REGR. vs. 68290 build-i386-xsm 3 host-install(3) broken REGR. vs. 68290 Tests which did not succeed, but are not blocking: test-amd64-amd64-xl-qemuu-debianhvm-amd64 1 build-check(1) blocked n/a test-amd64-i386-freebsd10-i386 1 build-check(1) blocked n/a test-amd64-amd64-qemuu-nested-intel 1 build-check(1) blocked n/a test-amd64-i386-libvirt-qemuu-debianhvm-amd64-xsm 1 build-check(1) blocked n/a test-armhf-armhf-xl-midway 1 build-check(1) blocked n/a test-armhf-armhf-libvirt 1 build-check(1) blocked n/a test-amd64-i386-xl-qemuu-debianhvm-amd64-xsm 1 build-check(1) blocked n/a test-amd64-i386-xl-qemut-debianhvm-amd64-xsm 1 build-check(1) blocked n/a test-amd64-amd64-xl-qemut-stubdom-debianhvm-amd64-xsm 1 build-check(1) blocked n/a test-amd64-i386-xl-qemuu-winxpsp3-vcpus1 1 build-check(1) blocked n/a test-armhf-armhf-libvirt-raw 1 build-check(1) blocked n/a test-amd64-i386-libvirt-xsm 1 build-check(1) blocked n/a test-amd64-amd64-xl-multivcpu 1 build-check(1) blocked n/a test-amd64-i386-xl-qemuu-winxpsp3 1 build-check(1) blocked n/a test-amd64-amd64-libvirt 1 build-check(1) blocked n/a test-amd64-i386-xl-qemut-winxpsp3 1 build-check(1) blocked n/a test-amd64-amd64-xl-pvh-amd 1 build-check(1) blocked n/a test-amd64-i386-xl-qemut-debianhvm-amd64 1 build-check(1) blocked n/a test-amd64-i386-qemut-rhel6hvm-intel 1 build-check(1) blocked n/a test-amd64-i386-freebsd10-amd64 1 build-check(1) blocked n/a test-amd64-amd64-pair 1 build-check(1) blocked n/a test-armhf-armhf-xl-credit2 1 build-check(1) blocked n/a build-i386-rumprun 1 build-check(1) blocked n/a test-amd64-amd64-xl-qemuu-win7-amd64 1 build-check(1) blocked n/a test-amd64-amd64-libvirt-qemuu-debianhvm-amd64-xsm 1 build-check(1) blocked n/a test-amd64-amd64-pygrub 1 build-check(1) blocked n/a test-amd64-amd64-xl-qemuu-winxpsp3 1 build-check(1) blocked n/a test-amd64-amd64-xl-qcow2 1 build-check(1) blocked n/a test-amd64-amd64-amd64-pvgrub 1 build-check(1) blocked n/a test-amd64-amd64-xl-qemut-win7-amd64 1 build-check(1) blocked n/a test-amd64-i386-xl-qemuu-debianhvm-amd64 1 build-check(1) blocked n/a build-amd64-rumprun 1 build-check(1) blocked n/a test-armhf-armhf-libvirt-xsm 1 build-check(1) blocked n/a build-i386-libvirt 1 build-check(1) blocked n/a test-amd64-i386-xl 1 build-check(1) blocked n/a test-amd64-i386-libvirt-pair 1 build-check(1) blocked n/a test-amd64-amd64-xl-qemuu-ovmf-amd64 1 build-check(1) blocked n/a test-amd64-amd64-libvirt-vhd 1 build-check(1) blocked n/a test-amd64-amd64-xl-credit2 1 build-check(1) blocked n/a test-armhf-armhf-xl-multivcpu 1 build-check(1) blocked n/a test-amd64-i386-xl-xsm 1 build-check(1) blocked n/a build-amd64-libvirt 1 build-check(1) blocked n/a test-amd64-amd64-xl-qemuu-debianhvm-amd64-xsm 1 build-check(1) blocked n/a test-amd64-amd64-rumprun-amd64 1 build-check(1) blocked n/a test-amd64-i386-xl-qemuu-ovmf-amd64 1 build-check(1) blocked n/a test-amd64-amd64-xl-pvh-intel 1 build-check(1) blocked n/a test-amd64-i386-xl-raw 1 build-check(1) blocked n/a test-amd64-amd64-i386-pvgrub 1 build-check(1) blocked n/a test-amd64-i386-qemuu-rhel6hvm-amd 1 build-check(1) blocked n/a test-amd64-amd64-xl-qemut-winxpsp3 1 build-check(1) blocked n/a build-armhf-libvirt 1 build-check(1) blocked n/a test-armhf-armhf-libvirt-qcow2 1 build-check(1) blocked n/a test-amd64-i386-libvirt 1 build-check(1) blocked n/a test-amd64-amd64-libvirt-pair 1 build-check(1) blocked n/a test-armhf-armhf-xl 1 build-check(1) blocked n/a test-amd64-amd64-libvirt-xsm 1 build-check(1) blocked n/a test-amd64-amd64-xl-xsm 1 build-check(1) blocked n/a test-amd64-i386-xl-qemut-winxpsp3-vcpus1 1 build-check(1) blocked n/a test-amd64-i386-qemuu-rhel6hvm-intel 1 build-check(1) blocked n/a test-armhf-armhf-xl-vhd 1 build-check(1) blocked n/a test-amd64-i386-xl-qemuu-win7-amd64 1 build-check(1) blocked n/a test-amd64-amd64-xl 1 build-check(1) blocked n/a test-amd64-i386-pair 1 build-check(1) blocked n/a test-amd64-i386-rumprun-i386 1 build-check(1) blocked n/a test-amd64-amd64-qemuu-nested-amd 1 build-check(1) blocked n/a test-amd64-i386-xl-qemut-stubdom-debianhvm-amd64-xsm 1 build-check(1) blocked n/a test-amd64-i386-xl-qemut-win7-amd64 1 build-check(1) blocked n/a test-amd64-i386-qemut-rhel6hvm-amd 1 build-check(1) blocked n/a test-armhf-armhf-xl-rtds 1 build-check(1) blocked n/a test-amd64-amd64-xl-qemut-debianhvm-amd64-xsm 1 build-check(1) blocked n/a test-amd64-amd64-xl-qemut-debianhvm-amd64 1 build-check(1) blocked n/a test-armhf-armhf-xl-xsm 1 build-check(1) blocked n/a test-amd64-amd64-xl-rtds 1 build-check(1) blocked n/a version targeted for testing: linux f40b3cc69de8c97bbcdb74e3cffda06ffcad2cd7 baseline version: linux 35327468a79dd9e343eaf7e66cc372f8277b2a84 Last test of basis 68290 2016-12-29 12:20:32 Z 22 days Testing same since 68405 2017-01-20 17:50:06 Z 0 days 1 attempts ------------------------------------------------------------ People who touched revisions under test: Adrian Hunter <adrian.hun...@intel.com> Al Viro <v...@zeniv.linux.org.uk> Alan Stern <st...@rowland.harvard.edu> Aleksa Sarai <asa...@suse.de> Alex Deucher <alexander.deuc...@amd.com> Alex Porosanu <alexandru.poros...@nxp.com> Alexander Duyck <adu...@mirantis.com> Andrew Morton <a...@linux-foundation.org> Andy Grover <agro...@redhat.com> Arnd Bergmann <a...@arndb.de> Bart Van Assche <bart.vanass...@sandisk.com> Ben Hutchings <ben.hutchi...@codethink.co.uk> Benjamin Marzinski <bmarz...@redhat.com> Bjorn Helgaas <bhelg...@google.com> Boris Ostrovsky <boris.ostrov...@oracle.com> Bryant G Ly <b...@us.ibm.com> Chandan Rajendra <chan...@linux.vnet.ibm.com> Chris Mason <c...@fb.com> Chris Wilson <ch...@chris-wilson.co.uk> Con Kolivas <c...@kolivas.org> Con Kolivas <ker...@kolivas.org> Dan Carpenter <dan.carpen...@oracle.com> Dan O'Donovan <d...@emutex.com> Daniel Vetter <daniel.vet...@ffwll.ch> Daniele Palmas <dnl...@gmail.com> Dave Chinner <da...@fromorbit.com> David S. Miller <da...@davemloft.net> Deepa Dinamani <deepa.ker...@gmail.com> Dmitry Torokhov <dmitry.torok...@gmail.com> Doug Ledford <dledf...@redhat.com> Douglas Anderson <diand...@chromium.org> Eric Dumazet <eduma...@google.com> Eric Sandeen <sand...@redhat.com> Eric Sandeen <sand...@sandeen.net> Felipe Balbi <felipe.ba...@linux.intel.com> Filipe Manana <fdman...@suse.com> Geoff Levand <ge...@infradead.org> Gerald Schaefer <gerald.schae...@de.ibm.com> Giuseppe Lippolis <giu.lippo...@gmail.com> Greg Kroah-Hartman <gre...@linuxfoundation.org> Herbert Xu <herb...@gondor.apana.org.au> Horia GeantÄ <horia.gea...@nxp.com> Hugh Dickins <hu...@google.com> Hui Wang <hui.w...@canonical.com> Ian Abbott <abbo...@mev.co.uk> Ilya Dryomov <idryo...@gmail.com> Jaegeuk Kim <jaeg...@kernel.org> Jan Kara <j...@suse.cz> Jarkko Sakkinen <jarkko.sakki...@linux.intel.com> Jason Gunthorpe <jguntho...@obsidianresearch.com> Jens Axboe <ax...@fb.com> Jesse Gross <je...@kernel.org> Jim Mattson <jmatt...@google.com> Jingkui Wang <jkw...@google.com> Joe Thornber <e...@redhat.com> Johan Hovold <jo...@kernel.org> Juergen Gross <jgr...@suse.com> Julien Grall <julien.gr...@arm.com> Jussi Laako <ju...@sonarnerd.net> Kalle Valo <kv...@codeaurora.org> Kalle Valo <kv...@qca.qualcomm.com> Kashyap Desai <kashyap.de...@broadcom.com> Kiran Kumar Kasturi <kiran-kumar.kast...@broadcom.com> Konstantin Khlebnikov <khlebni...@yandex-team.ru> Krzysztof Kozlowski <k...@kernel.org> Larry Finger <larry.fin...@lwfinger.net> Linus Torvalds <torva...@linux-foundation.org> Linus Walleij <linus.wall...@linaro.org> Luis R. Rodriguez <mcg...@kernel.org> Mark Brown <broo...@kernel.org> Martin K. Petersen <martin.peter...@oracle.com> Martin Schwidefsky <schwidef...@de.ibm.com> Mathias Nyman <mathias.ny...@linux.intel.com> Maxim Patlasov <mpatla...@virtuozzo.com> Michael Ellerman <m...@ellerman.id.au> Michel Dänzer <michel.daen...@amd.com> Mike Snitzer <snit...@redhat.com> Nathaniel Quillin <n...@google.com> NeilBrown <ne...@suse.com> Nicolai Stange <nicsta...@gmail.com> Olaf Hering <o...@aepfle.de> Oliver Neukum <oneu...@suse.com> Omar Sandoval <osan...@fb.com> Ondrej Kozina <okoz...@redhat.com> Paolo Bonzini <pbonz...@redhat.com> Patrick Boutilier <bouti...@ednet.ns.ca> Patrik Jakobsson <patrik.r.jakobs...@gmail.com> Paul Mackerras <pau...@ozlabs.org> Paulo Zanoni <paulo.r.zan...@intel.com> Pavel Shilovsky <pshi...@microsoft.com> Peter Zijlstra (Intel) <pet...@infradead.org> Pierre de Villemereuil <fl...@mailoo.org> Rabin Vincent <rab...@axis.com> Rafael J. Wysocki <rafael.j.wyso...@intel.com> Robbie Ko <robbi...@synology.com> Russell Currey <rus...@russell.cc> Sachin Prabhu <spra...@redhat.com> Sasha Levin <alexander.le...@verizon.com> Sean Paul <seanp...@chromium.org> Shaohua Li <s...@fb.com> Stefano Stabellini <sstabell...@kernel.org> Steven Rostedt (Red Hat) <rost...@goodmis.org> Steven Rostedt <rost...@goodmis.org> Sumit Saxena <sumit.sax...@broadcom.com> Takashi Iwai <ti...@suse.de> Theodore Ts'o <ty...@mit.edu> Thomas Gleixner <t...@linutronix.de> Trond Myklebust <trond.mykleb...@primarydata.com> Ulf Hansson <ulf.hans...@linaro.org> Vinod Koul <vinod.k...@intel.com> Vittorio Gambaletta (VittGam) <linux-wirel...@vittgam.net> Vittorio Gambaletta <linuxb...@vittgam.net> Wei Fang <fangw...@huawei.com> YOSHIFUJI Hideaki <yoshf...@linux-ipv6.org> Yves-Alexis Perez <cor...@corsac.net> Zhang Rui <rui.zh...@intel.com> jobs: build-amd64-xsm broken build-armhf-xsm broken build-i386-xsm broken build-amd64 broken build-armhf broken build-i386 broken build-amd64-libvirt blocked build-armhf-libvirt blocked build-i386-libvirt blocked build-amd64-pvops broken build-armhf-pvops broken build-i386-pvops broken build-amd64-rumprun blocked build-i386-rumprun blocked test-amd64-amd64-xl blocked test-armhf-armhf-xl blocked test-amd64-i386-xl blocked test-amd64-amd64-xl-qemut-debianhvm-amd64-xsm blocked test-amd64-i386-xl-qemut-debianhvm-amd64-xsm blocked test-amd64-amd64-libvirt-qemuu-debianhvm-amd64-xsm blocked test-amd64-i386-libvirt-qemuu-debianhvm-amd64-xsm blocked test-amd64-amd64-xl-qemuu-debianhvm-amd64-xsm blocked test-amd64-i386-xl-qemuu-debianhvm-amd64-xsm blocked test-amd64-amd64-xl-qemut-stubdom-debianhvm-amd64-xsm blocked test-amd64-i386-xl-qemut-stubdom-debianhvm-amd64-xsm blocked test-amd64-amd64-libvirt-xsm blocked test-armhf-armhf-libvirt-xsm blocked test-amd64-i386-libvirt-xsm blocked test-amd64-amd64-xl-xsm blocked test-armhf-armhf-xl-xsm blocked test-amd64-i386-xl-xsm blocked test-amd64-amd64-qemuu-nested-amd blocked test-amd64-amd64-xl-pvh-amd blocked test-amd64-i386-qemut-rhel6hvm-amd blocked test-amd64-i386-qemuu-rhel6hvm-amd blocked test-amd64-amd64-xl-qemut-debianhvm-amd64 blocked test-amd64-i386-xl-qemut-debianhvm-amd64 blocked test-amd64-amd64-xl-qemuu-debianhvm-amd64 blocked test-amd64-i386-xl-qemuu-debianhvm-amd64 blocked test-amd64-i386-freebsd10-amd64 blocked test-amd64-amd64-xl-qemuu-ovmf-amd64 blocked test-amd64-i386-xl-qemuu-ovmf-amd64 blocked test-amd64-amd64-rumprun-amd64 blocked test-amd64-amd64-xl-qemut-win7-amd64 blocked test-amd64-i386-xl-qemut-win7-amd64 blocked test-amd64-amd64-xl-qemuu-win7-amd64 blocked test-amd64-i386-xl-qemuu-win7-amd64 blocked test-amd64-amd64-xl-credit2 blocked test-armhf-armhf-xl-credit2 blocked test-amd64-i386-freebsd10-i386 blocked test-amd64-i386-rumprun-i386 blocked test-amd64-amd64-qemuu-nested-intel blocked test-amd64-amd64-xl-pvh-intel blocked test-amd64-i386-qemut-rhel6hvm-intel blocked test-amd64-i386-qemuu-rhel6hvm-intel blocked test-amd64-amd64-libvirt blocked test-armhf-armhf-libvirt blocked test-amd64-i386-libvirt blocked test-armhf-armhf-xl-midway blocked test-amd64-amd64-xl-multivcpu blocked test-armhf-armhf-xl-multivcpu blocked test-amd64-amd64-pair blocked test-amd64-i386-pair blocked test-amd64-amd64-libvirt-pair blocked test-amd64-i386-libvirt-pair blocked test-amd64-amd64-amd64-pvgrub blocked test-amd64-amd64-i386-pvgrub blocked test-amd64-amd64-pygrub blocked test-armhf-armhf-libvirt-qcow2 blocked test-amd64-amd64-xl-qcow2 blocked test-armhf-armhf-libvirt-raw blocked test-amd64-i386-xl-raw blocked test-amd64-amd64-xl-rtds blocked test-armhf-armhf-xl-rtds blocked test-amd64-i386-xl-qemut-winxpsp3-vcpus1 blocked test-amd64-i386-xl-qemuu-winxpsp3-vcpus1 blocked test-amd64-amd64-libvirt-vhd blocked test-armhf-armhf-xl-vhd blocked test-amd64-amd64-xl-qemut-winxpsp3 blocked test-amd64-i386-xl-qemut-winxpsp3 blocked test-amd64-amd64-xl-qemuu-winxpsp3 blocked test-amd64-i386-xl-qemuu-winxpsp3 blocked ------------------------------------------------------------ sg-report-flight on osstest.xs.citrite.net logs: /home/osstest/logs images: /home/osstest/images Logs, config files, etc. are available at http://osstest.xs.citrite.net/~osstest/testlogs/logs Test harness code can be found at http://xenbits.xensource.com/gitweb?p=osstest.git;a=summary broken-step build-armhf host-install(3) broken-step build-armhf-xsm host-install(3) broken-step build-armhf-pvops host-install(3) broken-step build-amd64 host-install(3) broken-step build-amd64-xsm host-install(3) broken-step build-amd64-pvops host-install(3) broken-step build-i386-pvops host-install(3) broken-step build-i386 host-install(3) broken-step build-i386-xsm host-install(3) Push not applicable. (No revision log; it would be 2462 lines long.)
_______________________________________________ Xen-devel mailing list Xen-devel@lists.xen.org https://lists.xen.org/xen-devel