This run is configured for baseline tests only. flight 68364 ovmf real [real] http://osstest.xs.citrite.net/~osstest/testlogs/logs/68364/
Perfect :-) All tests in this flight passed as required version targeted for testing: ovmf 521981ee7608b75b51693ea367c9e1d83687d110 baseline version: ovmf 0772737347816ced8df6299b1c88cccb9de9164c Last test of basis 68361 2017-01-11 12:16:52 Z 2 days Testing same since 68364 2017-01-13 12:16:24 Z 0 days 1 attempts ------------------------------------------------------------ People who touched revisions under test: Augustine Linson P <linson.august...@hpe.com> Chao Zhang <chao.b.zh...@intel.com> Chris Phillips <chr...@hpe.com> Hao Wu <hao.a...@intel.com> Hegde Nagaraj P <nagaraj-p.he...@hpe.com> hegdenag <nagaraj-p.he...@hpe.com> Jiewen Yao <jiewen....@intel.com> Linson Augustine <linson.august...@hpe.com> Maurice Ma <maurice...@intel.com> Michael D Kinney <michael.d.kin...@intel.com> Michael Kinney <michael.d.kin...@intel.com> Ruiyu Ni <ruiyu...@intel.com> Zhang, Chao B <chao.b.zh...@intel.com> jobs: build-amd64-xsm pass build-i386-xsm pass build-amd64 pass build-i386 pass build-amd64-libvirt pass build-i386-libvirt pass build-amd64-pvops pass build-i386-pvops pass test-amd64-amd64-xl-qemuu-ovmf-amd64 pass test-amd64-i386-xl-qemuu-ovmf-amd64 pass ------------------------------------------------------------ sg-report-flight on osstest.xs.citrite.net logs: /home/osstest/logs images: /home/osstest/images Logs, config files, etc. are available at http://osstest.xs.citrite.net/~osstest/testlogs/logs Test harness code can be found at http://xenbits.xensource.com/gitweb?p=osstest.git;a=summary Push not applicable. (No revision log; it would be 459 lines long.) _______________________________________________ Xen-devel mailing list Xen-devel@lists.xen.org https://lists.xen.org/xen-devel