This run is configured for baseline tests only. flight 68178 ovmf real [real] http://osstest.xs.citrite.net/~osstest/testlogs/logs/68178/
Perfect :-) All tests in this flight passed as required version targeted for testing: ovmf 854c6b80dc3f1d4a151322b21c5fb6952b159ca9 baseline version: ovmf 2c1cc12931b6c5a85471272799b3d4c249025a60 Last test of basis 68167 2016-12-07 07:47:05 Z 1 days Testing same since 68178 2016-12-08 19:23:11 Z 0 days 1 attempts ------------------------------------------------------------ People who touched revisions under test: Anthony PERARD <anthony.per...@citrix.com> Dandan Bi <dandan...@intel.com> Jiaxin Wu <jiaxin...@intel.com> Jiewen Yao <jiewen....@intel.com> Laszlo Ersek <ler...@redhat.com> Leif Lindholm <leif.lindh...@linaro.org> Michael Kinney <michael.d.kin...@intel.com> Ruiyu Ni <ruiyu...@intel.com> Zhang Lubo <lubo.zh...@intel.com> jobs: build-amd64-xsm pass build-i386-xsm pass build-amd64 pass build-i386 pass build-amd64-libvirt pass build-i386-libvirt pass build-amd64-pvops pass build-i386-pvops pass test-amd64-amd64-xl-qemuu-ovmf-amd64 pass test-amd64-i386-xl-qemuu-ovmf-amd64 pass ------------------------------------------------------------ sg-report-flight on osstest.xs.citrite.net logs: /home/osstest/logs images: /home/osstest/images Logs, config files, etc. are available at http://osstest.xs.citrite.net/~osstest/testlogs/logs Test harness code can be found at http://xenbits.xensource.com/gitweb?p=osstest.git;a=summary Push not applicable. (No revision log; it would be 543 lines long.) _______________________________________________ Xen-devel mailing list Xen-devel@lists.xen.org https://lists.xen.org/xen-devel