This run is configured for baseline tests only. flight 67606 ovmf real [real] http://osstest.xs.citrite.net/~osstest/testlogs/logs/67606/
Perfect :-) All tests in this flight passed as required version targeted for testing: ovmf e53f1e253e01026029f5ce7474a9d8421c8a0fbb baseline version: ovmf 37136e069dc0a0b8a47098d80d8f6f742db88c04 Last test of basis 67604 2016-08-29 09:48:27 Z 1 days Testing same since 67606 2016-08-30 04:19:47 Z 0 days 1 attempts ------------------------------------------------------------ People who touched revisions under test: Giri P Mudusuru <giri.p.mudus...@intel.com> Jiewen Yao <jiewen....@intel.com> jobs: build-amd64-xsm pass build-i386-xsm pass build-amd64 pass build-i386 pass build-amd64-libvirt pass build-i386-libvirt pass build-amd64-pvops pass build-i386-pvops pass test-amd64-amd64-xl-qemuu-ovmf-amd64 pass test-amd64-i386-xl-qemuu-ovmf-amd64 pass ------------------------------------------------------------ sg-report-flight on osstest.xs.citrite.net logs: /home/osstest/logs images: /home/osstest/images Logs, config files, etc. are available at http://osstest.xs.citrite.net/~osstest/testlogs/logs Test harness code can be found at http://xenbits.xensource.com/gitweb?p=osstest.git;a=summary Push not applicable. ------------------------------------------------------------ commit e53f1e253e01026029f5ce7474a9d8421c8a0fbb Author: Jiewen Yao <jiewen....@intel.com> Date: Tue Aug 23 10:02:27 2016 +0800 Maintainers.txt: Add IntelFsp2Pkg, IntelFsp2WrapperPkg and IntelSiliconPkg. Cc: Giri P Mudusuru <giri.p.mudus...@intel.com> Cc: Satya Yarlagadda <satya.p.yarlaga...@intel.com> Cc: Amy Chan <amy.c...@intel.com> Contributed-under: TianoCore Contribution Agreement 1.0 Signed-off-by: Jiewen Yao <jiewen....@intel.com> Reviewed-by: Giri P Mudusuru <giri.p.mudus...@intel.com> commit 648e2a2e7bf691bad223b4175acc9a0478589fca Author: Giri P Mudusuru <giri.p.mudus...@intel.com> Date: Sat Aug 27 06:07:06 2016 +0800 IntelSiliconPkg: Add Firmware Interface Table (FIT) definitions Adding Processor Firmware Interface Table (FIT) related defines & structures Cc: Jiewen Yao <jiewen....@intel.com> Cc: Michael Kinney <michael.d.kin...@intel.com> Contributed-under: TianoCore Contribution Agreement 1.0 Signed-off-by: Giri P Mudusuru <giri.p.mudus...@intel.com> Reviewed-by: Jiewen Yao <jiewen....@intel.com> Reviewed-by: Michael Kinney <michael.d.kin...@intel.com> _______________________________________________ Xen-devel mailing list Xen-devel@lists.xen.org https://lists.xen.org/xen-devel