This run is configured for baseline tests only. flight 67542 ovmf real [real] http://osstest.xs.citrite.net/~osstest/testlogs/logs/67542/
Perfect :-) All tests in this flight passed as required version targeted for testing: ovmf d35ec1e0507dc612ed6485410f12e683a726a3bf baseline version: ovmf de74668f5ea713b7e91e01318f0d15d2bf0effce Last test of basis 67538 2016-08-15 17:18:31 Z 1 days Testing same since 67542 2016-08-16 20:18:00 Z 0 days 1 attempts ------------------------------------------------------------ People who touched revisions under test: Dong, Eric <eric.d...@intel.com> Eric Dong <eric.d...@intel.com> jobs: build-amd64-xsm pass build-i386-xsm pass build-amd64 pass build-i386 pass build-amd64-libvirt pass build-i386-libvirt pass build-amd64-pvops pass build-i386-pvops pass test-amd64-amd64-xl-qemuu-ovmf-amd64 pass test-amd64-i386-xl-qemuu-ovmf-amd64 pass ------------------------------------------------------------ sg-report-flight on osstest.xs.citrite.net logs: /home/osstest/logs images: /home/osstest/images Logs, config files, etc. are available at http://osstest.xs.citrite.net/~osstest/testlogs/logs Test harness code can be found at http://xenbits.xensource.com/gitweb?p=osstest.git;a=summary Push not applicable. ------------------------------------------------------------ commit d35ec1e0507dc612ed6485410f12e683a726a3bf Author: Dong, Eric <eric.d...@intel.com> Date: Fri Aug 12 10:09:48 2016 +0800 MdePkg: Fix guid conflict. Update Image Decoder Protocol GUID value to fix GUID conflict with EFI_PCI_ROOT_BRIDGE_IO_PROTOCOL_GUID. Contributed-under: TianoCore Contribution Agreement 1.0 Signed-off-by: Eric Dong <eric.d...@intel.com> Reviewed-by: Liming Gao <liming....@intel.com> _______________________________________________ Xen-devel mailing list Xen-devel@lists.xen.org https://lists.xen.org/xen-devel