flight 95595 xen-unstable-coverity real [real] http://logs.test-lab.xenproject.org/osstest/logs/95595/
Perfect :-) All tests in this flight passed version targeted for testing: xen 6e908ee108caec78f95e639b8ef43ac5dd1d5e45 baseline version: xen 936a7a5483fbdd4ae3d813beff8921e902f43a46 Last test of basis 95425 2016-06-08 09:18:46 Z 4 days Testing same since 95595 2016-06-12 09:23:39 Z 0 days 1 attempts ------------------------------------------------------------ People who touched revisions under test: Andrew Cooper <andrew.coop...@citrix.com> Christoph Egger <cheg...@amazon.de> Daniel De Graaf <dgde...@tycho.nsa.gov> Daniel Kiper <daniel.ki...@oracle.com> Dongli Zhang <dongli.zh...@oracle.com> Doug Goldstein <car...@cardoe.com> Euan Harris <euan.har...@citrix.com> George Dunlap <george.dun...@citrix.com> George Dunlap <george.dun...@eu.citrix.com> Haozhong Zhang <haozhong.zh...@intel.com> Ian Jackson <ian.jack...@eu.citrix.com> Jan Beulich <jbeul...@suse.com> Jiandi An <anjia...@codeaurora.org> Julien Grall <julien.gr...@arm.com> Kevin Tian <kevin.t...@intel.com> Konrad Rzeszutek Wilk <konrad.w...@oracle.com> Konrad Rzeszutek Wilk <kon...@kernel.org> Len Brown <len.br...@intel.com> Paulina Szubarczyk <paulinaszubarc...@gmail.com> Roger Pau Monné <roger....@citrix.com> Stefano Stabellini <sstabell...@kernel.org> Suravee Suthikulpanit <suravee.suthikulpa...@amd.com> Tim Deegan <t...@xen.org> Wei Chen <wei.c...@linaro.org> Wei Liu <wei.l...@citrix.com> jobs: coverity-amd64 pass ------------------------------------------------------------ sg-report-flight on osstest.test-lab.xenproject.org logs: /home/logs/logs images: /home/logs/images Logs, config files, etc. are available at http://logs.test-lab.xenproject.org/osstest/logs Explanation of these reports, and of osstest in general, is at http://xenbits.xen.org/gitweb/?p=osstest.git;a=blob;f=README.email;hb=master http://xenbits.xen.org/gitweb/?p=osstest.git;a=blob;f=README;hb=master Test harness code can be found at http://xenbits.xen.org/gitweb?p=osstest.git;a=summary Pushing revision : + branch=xen-unstable-coverity + revision=6e908ee108caec78f95e639b8ef43ac5dd1d5e45 + . ./cri-lock-repos ++ . ./cri-common +++ . ./cri-getconfig +++ umask 002 +++ getrepos ++++ getconfig Repos ++++ perl -e ' use Osstest; readglobalconfig(); print $c{"Repos"} or die $!; ' +++ local repos=/home/osstest/repos +++ '[' -z /home/osstest/repos ']' +++ '[' '!' -d /home/osstest/repos ']' +++ echo /home/osstest/repos ++ repos=/home/osstest/repos ++ repos_lock=/home/osstest/repos/lock ++ '[' x '!=' x/home/osstest/repos/lock ']' ++ OSSTEST_REPOS_LOCK_LOCKED=/home/osstest/repos/lock ++ exec with-lock-ex -w /home/osstest/repos/lock ./ap-push xen-unstable-coverity 6e908ee108caec78f95e639b8ef43ac5dd1d5e45 + branch=xen-unstable-coverity + revision=6e908ee108caec78f95e639b8ef43ac5dd1d5e45 + . ./cri-lock-repos ++ . ./cri-common +++ . ./cri-getconfig +++ umask 002 +++ getrepos ++++ getconfig Repos ++++ perl -e ' use Osstest; readglobalconfig(); print $c{"Repos"} or die $!; ' +++ local repos=/home/osstest/repos +++ '[' -z /home/osstest/repos ']' +++ '[' '!' -d /home/osstest/repos ']' +++ echo /home/osstest/repos ++ repos=/home/osstest/repos ++ repos_lock=/home/osstest/repos/lock ++ '[' x/home/osstest/repos/lock '!=' x/home/osstest/repos/lock ']' + . ./cri-common ++ . ./cri-getconfig ++ umask 002 + select_xenbranch + case "$branch" in + tree=xen + xenbranch=xen-unstable-coverity + qemuubranch=qemu-upstream-unstable-coverity + qemuubranch=qemu-upstream-unstable + '[' xxen = xlinux ']' + linuxbranch= + '[' xqemu-upstream-unstable = x ']' + select_prevxenbranch ++ ./cri-getprevxenbranch xen-unstable-coverity + prevxenbranch=xen-4.7-testing + '[' x6e908ee108caec78f95e639b8ef43ac5dd1d5e45 = x ']' + : tested/2.6.39.x + . ./ap-common ++ : osst...@xenbits.xen.org +++ getconfig OsstestUpstream +++ perl -e ' use Osstest; readglobalconfig(); print $c{"OsstestUpstream"} or die $!; ' ++ : ++ : git://xenbits.xen.org/xen.git ++ : osst...@xenbits.xen.org:/home/xen/git/xen.git ++ : git://xenbits.xen.org/qemu-xen-traditional.git ++ : git://git.kernel.org ++ : git://git.kernel.org/pub/scm/linux/kernel/git ++ : git ++ : git://xenbits.xen.org/libvirt.git ++ : osst...@xenbits.xen.org:/home/xen/git/libvirt.git ++ : git://xenbits.xen.org/libvirt.git ++ : git://xenbits.xen.org/rumpuser-xen.git ++ : git ++ : git://xenbits.xen.org/rumpuser-xen.git ++ : osst...@xenbits.xen.org:/home/xen/git/rumpuser-xen.git +++ besteffort_repo https://github.com/rumpkernel/rumpkernel-netbsd-src +++ local repo=https://github.com/rumpkernel/rumpkernel-netbsd-src +++ cached_repo https://github.com/rumpkernel/rumpkernel-netbsd-src '[fetch=try]' +++ local repo=https://github.com/rumpkernel/rumpkernel-netbsd-src +++ local 'options=[fetch=try]' ++++ getconfig GitCacheProxy ++++ perl -e ' use Osstest; readglobalconfig(); print $c{"GitCacheProxy"} or die $!; ' +++ local cache=git://cache:9419/ +++ '[' xgit://cache:9419/ '!=' x ']' +++ echo 'git://cache:9419/https://github.com/rumpkernel/rumpkernel-netbsd-src%20[fetch=try]' ++ : 'git://cache:9419/https://github.com/rumpkernel/rumpkernel-netbsd-src%20[fetch=try]' ++ : git ++ : git://git.seabios.org/seabios.git ++ : osst...@xenbits.xen.org:/home/xen/git/osstest/seabios.git ++ : git://xenbits.xen.org/osstest/seabios.git ++ : https://github.com/tianocore/edk2.git ++ : osst...@xenbits.xen.org:/home/xen/git/osstest/ovmf.git ++ : git://xenbits.xen.org/osstest/ovmf.git ++ : git://xenbits.xen.org/osstest/linux-firmware.git ++ : osst...@xenbits.xen.org:/home/osstest/ext/linux-firmware.git ++ : git://git.kernel.org/pub/scm/linux/kernel/git/firmware/linux-firmware.git ++ : osst...@xenbits.xen.org:/home/xen/git/linux-pvops.git ++ : git://xenbits.xen.org/linux-pvops.git ++ : tested/linux-3.14 ++ : tested/linux-arm-xen ++ '[' xgit://xenbits.xen.org/linux-pvops.git = x ']' ++ '[' x = x ']' ++ : git://xenbits.xen.org/linux-pvops.git ++ : tested/linux-arm-xen ++ : git://git.kernel.org/pub/scm/linux/kernel/git/konrad/xen.git ++ : tested/2.6.39.x ++ : daily-cron.xen-unstable-coverity ++ : daily-cron.xen-unstable-coverity ++ : daily-cron.xen-unstable-coverity ++ : daily-cron.xen-unstable-coverity ++ : daily-cron.xen-unstable-coverity ++ : daily-cron.xen-unstable-coverity ++ : http://hg.uk.xensource.com/carbon/trunk/linux-2.6.27 ++ : git://xenbits.xen.org/qemu-xen.git ++ : osst...@xenbits.xen.org:/home/xen/git/qemu-xen.git ++ : daily-cron.xen-unstable-coverity ++ : git://xenbits.xen.org/qemu-xen.git ++ : git://git.qemu.org/qemu.git + TREE_LINUX=osst...@xenbits.xen.org:/home/xen/git/linux-pvops.git + TREE_QEMU_UPSTREAM=osst...@xenbits.xen.org:/home/xen/git/qemu-xen.git + TREE_XEN=osst...@xenbits.xen.org:/home/xen/git/xen.git + TREE_LIBVIRT=osst...@xenbits.xen.org:/home/xen/git/libvirt.git + TREE_RUMPUSERXEN=osst...@xenbits.xen.org:/home/xen/git/rumpuser-xen.git + TREE_SEABIOS=osst...@xenbits.xen.org:/home/xen/git/osstest/seabios.git + TREE_OVMF=osst...@xenbits.xen.org:/home/xen/git/osstest/ovmf.git + info_linux_tree xen-unstable-coverity + case $1 in + return 1 + case "$branch" in + cd /home/osstest/repos/xen + git push osst...@xenbits.xen.org:/home/xen/git/xen.git 6e908ee108caec78f95e639b8ef43ac5dd1d5e45:refs/heads/coverity-tested/smoke To osst...@xenbits.xen.org:/home/xen/git/xen.git 936a7a5..6e908ee 6e908ee108caec78f95e639b8ef43ac5dd1d5e45 -> coverity-tested/smoke
_______________________________________________ Xen-devel mailing list Xen-devel@lists.xen.org http://lists.xen.org/xen-devel