This run is configured for baseline tests only.

flight 44433 ovmf real [real]
http://osstest.xs.citrite.net/~osstest/testlogs/logs/44433/

Perfect :-)
All tests in this flight passed
version targeted for testing:
 ovmf                 81c1460695f783a3f91431b2babea623556a7f5d
baseline version:
 ovmf                 720eea6aa80b48acb05c1adc0f835e849d71da97

Last test of basis    44430  2016-05-18 20:20:23 Z    0 days
Testing same since    44433  2016-05-19 06:55:07 Z    0 days    1 attempts

------------------------------------------------------------
People who touched revisions under test:
  Dandan Bi <dandan...@intel.com>
  Ma, Maurice <maurice...@intel.com>
  Maurice Ma <maurice...@intel.com>

jobs:
 build-amd64-xsm                                              pass    
 build-i386-xsm                                               pass    
 build-amd64                                                  pass    
 build-i386                                                   pass    
 build-amd64-libvirt                                          pass    
 build-i386-libvirt                                           pass    
 build-amd64-pvops                                            pass    
 build-i386-pvops                                             pass    
 test-amd64-amd64-xl-qemuu-ovmf-amd64                         pass    
 test-amd64-i386-xl-qemuu-ovmf-amd64                          pass    


------------------------------------------------------------
sg-report-flight on osstest.xs.citrite.net
logs: /home/osstest/logs
images: /home/osstest/images

Logs, config files, etc. are available at
    http://osstest.xs.citrite.net/~osstest/testlogs/logs

Test harness code can be found at
    http://xenbits.xensource.com/gitweb?p=osstest.git;a=summary


Push not applicable.

------------------------------------------------------------
commit 81c1460695f783a3f91431b2babea623556a7f5d
Author: Dandan Bi <dandan...@intel.com>
Date:   Tue May 17 11:25:34 2016 +0800

    MdeModulePkg/UiApp: Exit function when parameter is unsupported or invalid
    
    When the parameter is unsupported or invalid,
    should exit the function.
    
    Cc: Qiu Shumin <shumin....@intel.com>
    Cc: Eric Dong <eric.d...@intel.com>
    Contributed-under: TianoCore Contribution Agreement 1.0
    Signed-off-by: Dandan Bi <dandan...@intel.com>
    Reviewed-by: Eric Dong <eric.d...@intel.com>
    Reviewed-by: Qiu Shumin <shumin....@intel.com>

commit c28306c3d6e0c7721abc937d8f47c3f1ccecf323
Author: Ma, Maurice <maurice...@intel.com>
Date:   Tue May 17 05:26:06 2016 +0800

    MdeModulePkg: Skip invalid bus number scanning in PciBusDxe driver
    
    When PcdPciDisableBusEnumeration is enabled, the PciBus driver
    might get into a dead loop if the secondary bus register on PCI
    bridge is not programmed or programmed improperly. Adding this
    check to avoid any potential dead loop caused by this.
    
    Cc: Feng Tian <feng.t...@intel.com>
    Cc: Star Zeng <star.z...@intel.com>
    Contributed-under: TianoCore Contribution Agreement 1.0
    Signed-off-by: Maurice Ma <maurice...@intel.com>
    Reviewed-by: Ruiyu Ni <ruiyu...@intel.com>
    Reviewed-by: Lee Leahy <leroy.p.le...@intel.com>

_______________________________________________
Xen-devel mailing list
Xen-devel@lists.xen.org
http://lists.xen.org/xen-devel

Reply via email to