This run is configured for baseline tests only.

flight 44427 ovmf real [real]
http://osstest.xs.citrite.net/~osstest/testlogs/logs/44427/

Perfect :-)
All tests in this flight passed
version targeted for testing:
 ovmf                 b41ef32518095f783d0c2343b496cc857c6f3dff
baseline version:
 ovmf                 05b2f9c94e0c0b663ff2d2fb55397d8215eeb3f5

Last test of basis    44424  2016-05-17 14:50:00 Z    0 days
Testing same since    44427  2016-05-18 06:20:27 Z    0 days    1 attempts

------------------------------------------------------------
People who touched revisions under test:
  Jiaxin Wu <jiaxin...@intel.com>
  Laszlo Ersek <ler...@redhat.com>
  Maurice Ma <maurice...@intel.com>
  Zenith432 <zenith...@users.sourceforge.net>

jobs:
 build-amd64-xsm                                              pass    
 build-i386-xsm                                               pass    
 build-amd64                                                  pass    
 build-i386                                                   pass    
 build-amd64-libvirt                                          pass    
 build-i386-libvirt                                           pass    
 build-amd64-pvops                                            pass    
 build-i386-pvops                                             pass    
 test-amd64-amd64-xl-qemuu-ovmf-amd64                         pass    
 test-amd64-i386-xl-qemuu-ovmf-amd64                          pass    


------------------------------------------------------------
sg-report-flight on osstest.xs.citrite.net
logs: /home/osstest/logs
images: /home/osstest/images

Logs, config files, etc. are available at
    http://osstest.xs.citrite.net/~osstest/testlogs/logs

Test harness code can be found at
    http://xenbits.xensource.com/gitweb?p=osstest.git;a=summary


Push not applicable.

------------------------------------------------------------
commit b41ef32518095f783d0c2343b496cc857c6f3dff
Author: Maurice Ma <maurice...@intel.com>
Date:   Mon May 16 08:29:40 2016 -0700

    CorebootModulePkg: Remove PciSioSerialDxe and SerialDxe driver
    
    CorebootPayloadPkg has been changed to use generic SerialDxe driver
    from MdeModulePkg. As part of the clean-up, the overridden SerialDxe
    and PciSioSerialDxe drivers in CorebootModulePkg need to be removed.
    
    Cc: Prince Agyeman <prince.agye...@intel.com>
    Contributed-under: TianoCore Contribution Agreement 1.0
    Signed-off-by: Maurice Ma <maurice...@intel.com>
    Reviewed-by: Lee Leahy <leroy.p.le...@intel.com>

commit 1fed57ab5d6961c43866b98c6ef56e1740373b1c
Author: Jiaxin Wu <jiaxin...@intel.com>
Date:   Mon May 16 11:44:45 2016 +0800

    MdeModulePkg: Refine the code for DxeHttpLib
    
    Cc: Ye Ting <ting...@intel.com>
    Cc: Fu Siyuan <siyuan...@intel.com>
    Contributed-under: TianoCore Contribution Agreement 1.0
    Signed-off-by: Jiaxin Wu <jiaxin...@intel.com>
    Reviewed-by: Liming Gao <liming....@intel.com>

commit 1250f3706620141d92fec4428352270251c9ac4d
Author: Zenith432 <zenith...@users.sourceforge.net>
Date:   Mon May 16 15:51:25 2016 +0000

    OvmfPkg/XenBusDxe: duplicate twice-iterated VA_LIST in XenStoreVSPrint()
    
    Contributed-under: TianoCore Contribution Agreement 1.0
    Signed-off-by: Zenith432 <zenith...@users.sourceforge.net>
    Reviewed-by: Laszlo Ersek <ler...@redhat.com>
    [ler...@redhat.com: add spaces before macro invocation parentheses; clean
     up subject line]
    Signed-off-by: Laszlo Ersek <ler...@redhat.com>

_______________________________________________
Xen-devel mailing list
Xen-devel@lists.xen.org
http://lists.xen.org/xen-devel

Reply via email to