flight 78870 ovmf real [real]
http://logs.test-lab.xenproject.org/osstest/logs/78870/

Failures and problems with tests :-(

Tests which did not succeed and are blocking,
including tests which could not be run:
 build-i386-pvops              3 host-install(3)         broken REGR. vs. 65543
 build-amd64-pvops             3 host-install(3)         broken REGR. vs. 65543
 build-amd64-xsm               3 host-install(3)         broken REGR. vs. 65543
 build-i386-xsm                3 host-install(3)         broken REGR. vs. 65543
 build-i386                    3 host-install(3)         broken REGR. vs. 65543
 build-amd64                   3 host-install(3)         broken REGR. vs. 65543

Tests which did not succeed, but are not blocking:
 build-amd64-libvirt           1 build-check(1)               blocked  n/a
 build-i386-libvirt            1 build-check(1)               blocked  n/a
 test-amd64-i386-xl-qemuu-ovmf-amd64  1 build-check(1)              blocked n/a
 test-amd64-amd64-xl-qemuu-ovmf-amd64  1 build-check(1)             blocked n/a

version targeted for testing:
 ovmf                 0179180d6dbacc1bed53c3b6a886693790f75365
baseline version:
 ovmf                 5ac96e3a28dd26eabee421919f67fa7c443a47f1

Last test of basis    65543  2015-12-08 08:45:15 Z   46 days
Failing since         65593  2015-12-08 23:44:51 Z   46 days   48 attempts
Testing same since    78870  2016-01-23 07:52:09 Z    0 days    1 attempts

------------------------------------------------------------
People who touched revisions under test:
  "Samer El-Haj-Mahmoud" <el...@hpe.com>
  "Yao, Jiewen" <jiewen....@intel.com>
  Andrew Fish <af...@apple.com>
  Ard Biesheuvel <ard.biesheu...@linaro.org>
  Cecil Sheng <cecil.sh...@hpe.com>
  Chao Zhang <chao.b.zh...@intel.com>
  Charles Duffy <chadu...@cisco.com>
  Dandan Bi <dandan...@intel.com>
  Daocheng Bu <daocheng...@intel.com>
  Daryl McDaniel <edk2-li...@mc2research.org>
  Eric Dong <eirc.d...@intel.com>
  Eric Dong <eric.d...@intel.com>
  Eugene Cohen <eug...@hp.com>
  Feng Tian <feng.t...@intel.com>
  Fu Siyuan <siyuan...@intel.com>
  Hao Wu <hao.a...@intel.com>
  Hess Chen <hesheng.c...@intel.com>
  Heyi Guo <heyi....@linaro.org>
  Jaben Carsey <jaben.car...@intel.com>
  Jeff Fan <jeff....@intel.com>
  Jiaxin Wu <jiaxin...@intel.com>
  Jim Dailey <jim_dai...@dell.com>
  Jordan Justen <jordan.l.jus...@intel.com>
  Larry Hauch <larry.ha...@intel.com>
  Laszlo Ersek <ler...@redhat.com>
  Leekha Shaveta <shav...@freescale.com>
  Liming Gao <liming....@intel.com>
  Mark Rutland <mark.rutl...@arm.com>
  Michael Kinney <michael.d.kin...@intel.com>
  Michael Thomas <mali...@entropy-development.com>
  Paulo Alcantara <paulo.alc.cavalca...@hp.com>
  Qin Long <qin.l...@intel.com>
  Qiu Shumin <shumin....@intel.com>
  Ruiyu Ni <ruiyu...@intel.com>
  Ryan Harkin <ryan.har...@linaro.org>
  Samer El-Haj-Mahmoud <el...@hpe.com>
  Samer El-Haj-Mahmoud <samer.el-haj-mahm...@hpe.com>
  Star Zeng <star.z...@intel.com>
  Tapan Shah <tapands...@hpe.com>
  Yao Jiewen <jiewen....@intel.com>
  Yao, Jiewen <jiewen....@intel.com>
  Ye Ting <ting...@intel.com>
  Yonghong Zhu <yonghong....@intel.com>
  Zhang Lubo <lubo.zh...@intel.com>

jobs:
 build-amd64-xsm                                              broken  
 build-i386-xsm                                               broken  
 build-amd64                                                  broken  
 build-i386                                                   broken  
 build-amd64-libvirt                                          blocked 
 build-i386-libvirt                                           blocked 
 build-amd64-pvops                                            broken  
 build-i386-pvops                                             broken  
 test-amd64-amd64-xl-qemuu-ovmf-amd64                         blocked 
 test-amd64-i386-xl-qemuu-ovmf-amd64                          blocked 


------------------------------------------------------------
sg-report-flight on osstest.test-lab.xenproject.org
logs: /home/logs/logs
images: /home/logs/images

Logs, config files, etc. are available at
    http://logs.test-lab.xenproject.org/osstest/logs

Explanation of these reports, and of osstest in general, is at
    http://xenbits.xen.org/gitweb/?p=osstest.git;a=blob;f=README.email;hb=master
    http://xenbits.xen.org/gitweb/?p=osstest.git;a=blob;f=README;hb=master

Test harness code can be found at
    http://xenbits.xen.org/gitweb?p=osstest.git;a=summary

broken-step build-i386-pvops host-install(3)
broken-step build-amd64-pvops host-install(3)
broken-step build-amd64-xsm host-install(3)
broken-step build-i386-xsm host-install(3)
broken-step build-i386 host-install(3)
broken-step build-amd64 host-install(3)

Not pushing.

(No revision log; it would be 6656 lines long.)

_______________________________________________
Xen-devel mailing list
Xen-devel@lists.xen.org
http://lists.xen.org/xen-devel

Reply via email to