This run is configured for baseline tests only. flight 38447 ovmf real [real] http://osstest.xs.citrite.net/~osstest/testlogs/logs/38447/
Perfect :-) All tests in this flight passed version targeted for testing: ovmf 6e3e562c9d3f3737b718b5be9c9a64e98784890b baseline version: ovmf e04671e81a7fe842f640a926171048e5524b46e0 Last test of basis 38427 2015-12-04 06:56:15 Z 0 days Testing same since 38447 2015-12-04 21:32:45 Z 0 days 1 attempts ------------------------------------------------------------ People who touched revisions under test: Eugene Cohen <eug...@hp.com> Jiaxin Wu <jiaxin...@intel.com> jobs: build-amd64-xsm pass build-i386-xsm pass build-amd64 pass build-i386 pass build-amd64-libvirt pass build-i386-libvirt pass build-amd64-pvops pass build-i386-pvops pass test-amd64-amd64-xl-qemuu-ovmf-amd64 pass test-amd64-i386-xl-qemuu-ovmf-amd64 pass ------------------------------------------------------------ sg-report-flight on osstest.xs.citrite.net logs: /home/osstest/logs images: /home/osstest/images Logs, config files, etc. are available at http://osstest.xs.citrite.net/~osstest/testlogs/logs Test harness code can be found at http://xenbits.xensource.com/gitweb?p=osstest.git;a=summary Push not applicable. ------------------------------------------------------------ commit 6e3e562c9d3f3737b718b5be9c9a64e98784890b Author: Jiaxin Wu <jiaxin...@intel.com> Date: Fri Dec 4 01:10:17 2015 +0000 ShellPkg: Fix wrong return status for Ifconfig.c The Ifconfig command handler tries to return an EFI_STATUS when the return type should be SHELL_STATUS. Cc: Cohen Eugene <eug...@hp.com> Cc: Carsey Jaben <jaben.car...@intel.com> Cc: Ye Ting <ting...@intel.com> Contributed-under: TianoCore Contribution Agreement 1.0 Signed-off-by: Jiaxin Wu <jiaxin...@intel.com> Reviewed-by: Jaben Carsey <jaben.car...@intel.com> Reviewed-by: Ye Ting <ting...@intel.com> Reviewed-by: Ard Biesheuvel <ard.biesheu...@linaro.org> git-svn-id: https://svn.code.sf.net/p/edk2/code/trunk/edk2@19110 6f19259b-4bc3-4df7-8a09-765794883524 commit efda17751344965c7f51cbd0660ed6a59e2de855 Author: Eugene Cohen <eug...@hp.com> Date: Thu Dec 3 20:28:02 2015 +0000 ArmPkg: update RVCT assembly functions to use new RVCT_ASM_EXPORT macro This has the effect of splitting assembly functions into their own sections so the linker can remove unused ones to save space. Contributed-under: TianoCore Contribution Agreement 1.0 Signed-off-by: Eugene Cohen <eug...@hp.com> Reviewed-by: Ard Biesheuvel <ard.biesheu...@gmail.com> git-svn-id: https://svn.code.sf.net/p/edk2/code/trunk/edk2@19109 6f19259b-4bc3-4df7-8a09-765794883524 _______________________________________________ Xen-devel mailing list Xen-devel@lists.xen.org http://lists.xen.org/xen-devel