This run is configured for baseline tests only. flight 38233 ovmf real [real] http://osstest.xs.citrite.net/~osstest/testlogs/logs/38233/
Perfect :-) All tests in this flight passed version targeted for testing: ovmf 843f8ca01bc195cd077f13512fe285e8db9a3984 baseline version: ovmf d26a7a3fa251e1c2e93bdb834207643eabb847de Last test of basis 38225 2015-10-30 02:36:46 Z 1 days Testing same since 38233 2015-10-31 10:00:14 Z 0 days 1 attempts ------------------------------------------------------------ People who touched revisions under test: David Woodhouse <david.woodho...@intel.com> Laszlo Ersek <ler...@redhat.com> Ruiyu Ni <ruiyu...@intel.com> Star Zeng <star.z...@intel.com> Thomas Palmer <thomas.pal...@hpe.com> jobs: build-amd64-xsm pass build-i386-xsm pass build-amd64 pass build-i386 pass build-amd64-libvirt pass build-i386-libvirt pass build-amd64-pvops pass build-i386-pvops pass test-amd64-amd64-xl-qemuu-ovmf-amd64 pass test-amd64-i386-xl-qemuu-ovmf-amd64 pass ------------------------------------------------------------ sg-report-flight on osstest.xs.citrite.net logs: /home/osstest/logs images: /home/osstest/images Logs, config files, etc. are available at http://osstest.xs.citrite.net/~osstest/testlogs/logs Test harness code can be found at http://xenbits.xensource.com/gitweb?p=osstest.git;a=summary Push not applicable. (No revision log; it would be 338 lines long.) _______________________________________________ Xen-devel mailing list Xen-devel@lists.xen.org http://lists.xen.org/xen-devel