This run is configured for baseline tests only. flight 38149 ovmf real [real] http://osstest.xs.citrite.net/~osstest/testlogs/logs/38149/
Perfect :-) All tests in this flight passed version targeted for testing: ovmf 64df44b7e5d005598828c990500c2427bb131e8f baseline version: ovmf 86cce64da95783fbc990934e75901cfadd768228 Last test of basis 38136 2015-10-08 06:24:51 Z 2 days Testing same since 38149 2015-10-10 04:19:34 Z 0 days 1 attempts ------------------------------------------------------------ People who touched revisions under test: Ard Biesheuvel <ard.biesheu...@linaro.org> Gary Ching-Pang Lin <g...@suse.com> Hesheng Chen <hesheng.c...@intel.com> Jordan Justen <jordan.l.jus...@intel.com> Joseph Shifflett <joseph.shiffl...@hpe.com> Laszlo Ersek <ler...@redhat.com> Li YangX <yangx...@intel.com> Liming Gao <liming....@intel.com> Samer El-Haj-Mahmoud <samer.el-haj-mahm...@hpe.com> Sudeep Holla <sudeep.ho...@arm.com> Supreeth Venkatesh <supreeth.venkat...@arm.com> jobs: build-amd64-xsm pass build-i386-xsm pass build-amd64 pass build-i386 pass build-amd64-libvirt pass build-i386-libvirt pass build-amd64-pvops pass build-i386-pvops pass test-amd64-amd64-xl-qemuu-ovmf-amd64 pass test-amd64-i386-xl-qemuu-ovmf-amd64 pass ------------------------------------------------------------ sg-report-flight on osstest.xs.citrite.net logs: /home/osstest/logs images: /home/osstest/images Logs, config files, etc. are available at http://osstest.xs.citrite.net/~osstest/testlogs/logs Test harness code can be found at http://xenbits.xensource.com/gitweb?p=osstest.git;a=summary Push not applicable. (No revision log; it would be 315 lines long.) _______________________________________________ Xen-devel mailing list Xen-devel@lists.xen.org http://lists.xen.org/xen-devel