flight 50568 libvirt real [real]
http://logs.test-lab.xenproject.org/osstest/logs/50568/

Failures and problems with tests :-(

Tests which did not succeed and are blocking,
including tests which could not be run:
 build-armhf-xsm               3 host-install(3)         broken REGR. vs. 50368
 build-armhf                   3 host-install(3)         broken REGR. vs. 50368
 build-amd64-pvops             3 host-install(3)         broken REGR. vs. 50368
 build-i386-pvops              3 host-install(3)         broken REGR. vs. 50368
 build-i386-xsm                3 host-install(3)         broken REGR. vs. 50368
 build-amd64-xsm               3 host-install(3)         broken REGR. vs. 50368
 build-i386                    3 host-install(3)         broken REGR. vs. 50368
 build-armhf-pvops             3 host-install(3)         broken REGR. vs. 50368

Tests which did not succeed, but are not blocking:
 test-amd64-i386-libvirt-xsm   1 build-check(1)               blocked  n/a
 test-armhf-armhf-libvirt-xsm  1 build-check(1)               blocked  n/a
 test-amd64-i386-libvirt       1 build-check(1)               blocked  n/a
 test-amd64-amd64-libvirt      1 build-check(1)               blocked  n/a
 test-armhf-armhf-libvirt      1 build-check(1)               blocked  n/a
 test-amd64-amd64-libvirt-xsm  1 build-check(1)               blocked  n/a
 build-armhf-libvirt           1 build-check(1)               blocked  n/a
 build-i386-libvirt            1 build-check(1)               blocked  n/a

version targeted for testing:
 libvirt              0af9325e6a06fd4478d4eebfcd92dfe7e2ec570c
baseline version:
 libvirt              225aa80246d5e4a9e3a16ebd4c482525045da3db

------------------------------------------------------------
People who touched revisions under test:
  Alexander Burluka <aburl...@parallels.com>
  Andrea Bolognani <abolo...@redhat.com>
  Chunyan Liu <cy...@suse.com>
  Cédric Bosdonnat <cbosdon...@suse.com>
  Dawid Zamirski <dzamir...@datto.com>
  Dmitry Guryanov <dgurya...@parallels.com>
  Eric Blake <ebl...@redhat.com>
  Erik Skultety <eskul...@redhat.com>
  Huanle Han <hanxue...@gmail.com>
  Jim Fehlig <jfeh...@suse.com>
  Jiri Denemark <jdene...@redhat.com>
  John Ferlan <jfer...@redhat.com>
  Ján Tomko <jto...@redhat.com>
  Lubomir Rintel <lkund...@v3.sk>
  Luyao Huang <lhu...@redhat.com>
  Martin Kletzander <mklet...@redhat.com>
  Maxim Nestratov <mnestra...@parallels.com>
  Michael Chapman <m...@very.puzzling.org>
  Michal Privoznik <mpriv...@redhat.com>
  Pavel Hrdina <phrd...@redhat.com>
  Peter Krempa <pkre...@redhat.com>
  Richard W. M. Jones <rjo...@redhat.com>
  Serge Hallyn <serge.hal...@ubuntu.com>
  Shanzhi Yu <s...@redhat.com>
  Wang Yufei <james.wangyu...@huawei.com>
  Xing Lin <xing...@cs.utah.edu>
  Zhang Bo <oscar.zhan...@huawei.com>
------------------------------------------------------------

jobs:
 build-amd64-xsm                                              broken
 build-armhf-xsm                                              broken
 build-i386-xsm                                               broken
 build-amd64                                                  pass
 build-armhf                                                  broken
 build-i386                                                   broken
 build-amd64-libvirt                                          pass
 build-armhf-libvirt                                          blocked
 build-i386-libvirt                                           blocked
 build-amd64-pvops                                            broken
 build-armhf-pvops                                            broken
 build-i386-pvops                                             broken
 test-amd64-amd64-libvirt-xsm                                 blocked
 test-armhf-armhf-libvirt-xsm                                 blocked
 test-amd64-i386-libvirt-xsm                                  blocked
 test-amd64-amd64-libvirt                                     blocked
 test-armhf-armhf-libvirt                                     blocked
 test-amd64-i386-libvirt                                      blocked


------------------------------------------------------------
sg-report-flight on osstest.test-lab.xenproject.org
logs: /home/osstest/pub/logs
images: /home/osstest/pub/images

Logs, config files, etc. are available at
    http://logs.test-lab.xenproject.org/osstest/logs

Test harness code can be found at
    http://xenbits.xen.org/gitweb?p=osstest.git;a=summary

broken-step build-armhf-xsm host-install(3)
broken-step build-armhf host-install(3)
broken-step build-amd64-pvops host-install(3)
broken-step build-i386-pvops host-install(3)
broken-step build-i386-xsm host-install(3)
broken-step build-amd64-xsm host-install(3)
broken-step build-i386 host-install(3)
broken-step build-armhf-pvops host-install(3)

Not pushing.

(No revision log; it would be 2307 lines long.)

_______________________________________________
Xen-devel mailing list
Xen-devel@lists.xen.org
http://lists.xen.org/xen-devel

Reply via email to