flight 36494 qemu-upstream-4.3-testing running [real] http://www.chiark.greenend.org.uk/~xensrcts/logs/36494/
Failures and problems with tests :-( Tests which did not succeed and are blocking, including tests which could not be run: test-amd64-i386-xl-winxpsp3-vcpus1 2 hosts-allocate running [st=running!] test-amd64-i386-xl-qemuu-win7-amd64 2 hosts-allocate running [st=running!] test-amd64-i386-qemut-rhel6hvm-amd 2 hosts-allocate running [st=running!] test-amd64-i386-xl-qemut-debianhvm-amd64 2 hosts-allocate running [st=running!] test-amd64-i386-xl-qemuu-ovmf-amd64 2 hosts-allocate running [st=running!] test-amd64-i386-pair 2 hosts-allocate running [st=running!] test-amd64-i386-rhel6hvm-amd 2 hosts-allocate running [st=running!] test-amd64-i386-rhel6hvm-intel 2 hosts-allocate running [st=running!] test-amd64-i386-freebsd10-i386 2 hosts-allocate running [st=running!] test-amd64-i386-xl-qemut-winxpsp3-vcpus1 2 hosts-allocate running [st=running!] test-amd64-i386-xend-winxpsp3 2 hosts-allocate running [st=running!] test-amd64-i386-pv 2 hosts-allocate running [st=running!] test-amd64-i386-xl-qemuu-debianhvm-amd64 2 hosts-allocate running [st=running!] test-amd64-i386-freebsd10-amd64 2 hosts-allocate running [st=running!] test-amd64-i386-libvirt 2 hosts-allocate running [st=running!] test-amd64-i386-qemuu-rhel6hvm-amd 2 hosts-allocate running [st=running!] test-amd64-i386-xend-qemut-winxpsp3 2 hosts-allocate running [st=running!] test-amd64-i386-xl-qemut-win7-amd64 2 hosts-allocate running [st=running!] test-amd64-i386-xl 2 hosts-allocate running [st=running!] test-amd64-i386-qemuu-rhel6hvm-intel 2 hosts-allocate running [st=running!] test-amd64-i386-xl-qemuu-winxpsp3-vcpus1 2 hosts-allocate running [st=running!] test-amd64-i386-xl-win7-amd64 2 hosts-allocate running [st=running!] test-amd64-i386-qemut-rhel6hvm-intel 2 hosts-allocate running [st=running!] test-amd64-amd64-libvirt 2 hosts-allocate running [st=running!] test-amd64-amd64-xl-qemuu-ovmf-amd64 2 hosts-allocate running [st=running!] test-amd64-amd64-xl-sedf-pin 2 hosts-allocate running [st=running!] test-amd64-amd64-xl-sedf 2 hosts-allocate running [st=running!] test-amd64-amd64-xl 2 hosts-allocate running [st=running!] test-amd64-amd64-xl-pcipt-intel 2 hosts-allocate running [st=running!] test-amd64-amd64-pv 2 hosts-allocate running [st=running!] test-amd64-amd64-xl-multivcpu 2 hosts-allocate running [st=running!] test-amd64-amd64-xl-qemut-debianhvm-amd64 2 hosts-allocate running [st=running!] test-amd64-amd64-xl-credit2 2 hosts-allocate running [st=running!] test-amd64-amd64-pair 2 hosts-allocate running [st=running!] test-amd64-amd64-xl-qemuu-debianhvm-amd64 2 hosts-allocate running [st=running!] test-amd64-amd64-xl-win7-amd64 2 hosts-allocate running [st=running!] test-amd64-amd64-xl-qemuu-win7-amd64 2 hosts-allocate running [st=running!] test-amd64-amd64-xl-qemut-win7-amd64 2 hosts-allocate running [st=running!] test-amd64-amd64-xl-winxpsp3 2 hosts-allocate running [st=running!] test-amd64-amd64-xl-qemut-winxpsp3 2 hosts-allocate running [st=running!] test-amd64-amd64-xl-qemuu-winxpsp3 2 hosts-allocate running [st=running!] version targeted for testing: qemuu ab689a89ec47b2e1c964c57bea7da68f8ddf89fd baseline version: qemuu 580b1d06aa3eed3ae9c12b4225a1ea1c192ab119 ------------------------------------------------------------ People who touched revisions under test: Andreas Färber <andreas.fae...@web.de> Anthony Liguori <aligu...@us.ibm.com> Asias He <as...@redhat.com> Benoit Canet <ben...@irqsave.net> Benoît Canet <benoit.ca...@irqsave.net> Gerd Hoffmann <kra...@redhat.com> Juan Quintela <quint...@redhat.com> Kevin Wolf <kw...@redhat.com> Michael Roth <mdr...@linux.vnet.ibm.com> Michael S. Tsirkin <m...@redhat.com> Paolo Bonzini <pbonz...@redhat.com> Peter Maydell <peter.mayd...@linaro.org> Petr Matousek <pmato...@redhat.com> Stefan Hajnoczi <stefa...@redhat.com> Stefano Stabellini <stefano.stabell...@eu.citrix.com> ------------------------------------------------------------ jobs: build-amd64 pass build-i386 pass build-amd64-libvirt pass build-i386-libvirt pass build-amd64-pvops pass build-i386-pvops pass test-amd64-amd64-xl preparing test-amd64-i386-xl preparing test-amd64-i386-rhel6hvm-amd preparing test-amd64-i386-qemut-rhel6hvm-amd preparing test-amd64-i386-qemuu-rhel6hvm-amd preparing test-amd64-amd64-xl-qemut-debianhvm-amd64 preparing test-amd64-i386-xl-qemut-debianhvm-amd64 preparing test-amd64-amd64-xl-qemuu-debianhvm-amd64 preparing test-amd64-i386-xl-qemuu-debianhvm-amd64 preparing test-amd64-i386-freebsd10-amd64 preparing test-amd64-amd64-xl-qemuu-ovmf-amd64 preparing test-amd64-i386-xl-qemuu-ovmf-amd64 preparing test-amd64-amd64-xl-qemut-win7-amd64 preparing test-amd64-i386-xl-qemut-win7-amd64 preparing test-amd64-amd64-xl-qemuu-win7-amd64 preparing test-amd64-i386-xl-qemuu-win7-amd64 preparing test-amd64-amd64-xl-win7-amd64 preparing test-amd64-i386-xl-win7-amd64 preparing test-amd64-amd64-xl-credit2 preparing test-amd64-i386-freebsd10-i386 preparing test-amd64-amd64-xl-pcipt-intel preparing test-amd64-i386-rhel6hvm-intel preparing test-amd64-i386-qemut-rhel6hvm-intel preparing test-amd64-i386-qemuu-rhel6hvm-intel preparing test-amd64-amd64-libvirt preparing test-amd64-i386-libvirt preparing test-amd64-amd64-xl-multivcpu preparing test-amd64-amd64-pair preparing test-amd64-i386-pair preparing test-amd64-amd64-xl-sedf-pin preparing test-amd64-amd64-pv preparing test-amd64-i386-pv preparing test-amd64-amd64-xl-sedf preparing test-amd64-i386-xl-qemut-winxpsp3-vcpus1 preparing test-amd64-i386-xl-qemuu-winxpsp3-vcpus1 preparing test-amd64-i386-xl-winxpsp3-vcpus1 preparing test-amd64-i386-xend-qemut-winxpsp3 preparing test-amd64-amd64-xl-qemut-winxpsp3 preparing test-amd64-amd64-xl-qemuu-winxpsp3 preparing test-amd64-i386-xend-winxpsp3 preparing test-amd64-amd64-xl-winxpsp3 preparing ------------------------------------------------------------ sg-report-flight on osstest.cam.xci-test.com logs: /home/xc_osstest/logs images: /home/xc_osstest/images Logs, config files, etc. are available at http://www.chiark.greenend.org.uk/~xensrcts/logs Test harness code can be found at http://xenbits.xensource.com/gitweb?p=osstest.git;a=summary broken test-amd64-i386-xl-winxpsp3-vcpus1 hosts-allocate running broken test-amd64-i386-xl-qemuu-win7-amd64 hosts-allocate running broken test-amd64-i386-qemut-rhel6hvm-amd hosts-allocate running broken test-amd64-i386-xl-qemut-debianhvm-amd64 hosts-allocate running broken test-amd64-i386-xl-qemuu-ovmf-amd64 hosts-allocate running broken test-amd64-i386-pair hosts-allocate running broken test-amd64-i386-rhel6hvm-amd hosts-allocate running broken test-amd64-i386-rhel6hvm-intel hosts-allocate running broken test-amd64-i386-freebsd10-i386 hosts-allocate running broken test-amd64-i386-xl-qemut-winxpsp3-vcpus1 hosts-allocate running broken test-amd64-i386-xend-winxpsp3 hosts-allocate running broken test-amd64-i386-pv hosts-allocate running broken test-amd64-i386-xl-qemuu-debianhvm-amd64 hosts-allocate running broken test-amd64-i386-freebsd10-amd64 hosts-allocate running broken test-amd64-i386-libvirt hosts-allocate running broken test-amd64-i386-qemuu-rhel6hvm-amd hosts-allocate running broken test-amd64-i386-xend-qemut-winxpsp3 hosts-allocate running broken test-amd64-i386-xl-qemut-win7-amd64 hosts-allocate running broken test-amd64-i386-xl hosts-allocate running broken test-amd64-i386-qemuu-rhel6hvm-intel hosts-allocate running broken test-amd64-i386-xl-qemuu-winxpsp3-vcpus1 hosts-allocate running broken test-amd64-i386-xl-win7-amd64 hosts-allocate running broken test-amd64-i386-qemut-rhel6hvm-intel hosts-allocate running broken test-amd64-amd64-libvirt hosts-allocate running broken test-amd64-amd64-xl-qemuu-ovmf-amd64 hosts-allocate running broken test-amd64-amd64-xl-sedf-pin hosts-allocate running broken test-amd64-amd64-xl-sedf hosts-allocate running broken test-amd64-amd64-xl hosts-allocate running broken test-amd64-amd64-xl-pcipt-intel hosts-allocate running broken test-amd64-amd64-pv hosts-allocate running broken test-amd64-amd64-xl-multivcpu hosts-allocate running broken test-amd64-amd64-xl-qemut-debianhvm-amd64 hosts-allocate running broken test-amd64-amd64-xl-credit2 hosts-allocate running broken test-amd64-amd64-pair hosts-allocate running broken test-amd64-amd64-xl-qemuu-debianhvm-amd64 hosts-allocate running broken test-amd64-amd64-xl-win7-amd64 hosts-allocate running broken test-amd64-amd64-xl-qemuu-win7-amd64 hosts-allocate running broken test-amd64-amd64-xl-qemut-win7-amd64 hosts-allocate running broken test-amd64-amd64-xl-winxpsp3 hosts-allocate running broken test-amd64-amd64-xl-qemut-winxpsp3 hosts-allocate running broken test-amd64-amd64-xl-qemuu-winxpsp3 hosts-allocate running Not pushing. (No revision log; it would be 705 lines long.)
_______________________________________________ Xen-devel mailing list Xen-devel@lists.xen.org http://lists.xen.org/xen-devel