flight 112892 xen-unstable-coverity real [real] http://logs.test-lab.xenproject.org/osstest/logs/112892/
Perfect :-) All tests in this flight passed as required version targeted for testing: xen 803c5a2a42e7c72a4c848e0f0106a941b758a91f baseline version: xen 4a0485c3d343e1c582fa824e4896b9b613a14efe Last test of basis 112842 2017-08-23 10:49:51 Z 3 days Testing same since 112892 2017-08-27 09:19:45 Z 0 days 1 attempts ------------------------------------------------------------ People who touched revisions under test: Alexandru Isaila <aisa...@bitdefender.com> Andrew Cooper <andrew.coop...@citrix.com> Anthony PERARD <anthony.per...@citrix.com> Boris Ostrovsky <boris.ostrov...@oracle.com> Christopher Clark <christopher.cla...@baesystems.com> Daniel De Graaf <dgde...@tycho.nsa.gov> Dario Faggioli <dario.faggi...@citrix.com> David Woodhouse <d...@amazon.co.uk> George Dunlap <george.dun...@citrix.com> Jan Beulich <jbeul...@suse.com> Juergen Gross <jgr...@suse.com> Julien Grall <julien.gr...@arm.com> Kevin Tian <kevin.t...@intel.com> Paul Durrant <paul.durr...@citrix.com> Roger Pau Monné <roger....@citrix.com> Tamas K Lengyel <ta...@tklengyel.com> Tim Deegan <t...@xen.org> Wei Liu <wei.l...@citrix.com> jobs: coverity-amd64 pass ------------------------------------------------------------ sg-report-flight on osstest.test-lab.xenproject.org logs: /home/logs/logs images: /home/logs/images Logs, config files, etc. are available at http://logs.test-lab.xenproject.org/osstest/logs Explanation of these reports, and of osstest in general, is at http://xenbits.xen.org/gitweb/?p=osstest.git;a=blob;f=README.email;hb=master http://xenbits.xen.org/gitweb/?p=osstest.git;a=blob;f=README;hb=master Test harness code can be found at http://xenbits.xen.org/gitweb?p=osstest.git;a=summary Pushing revision : + branch=xen-unstable-coverity + revision=803c5a2a42e7c72a4c848e0f0106a941b758a91f + . ./cri-lock-repos ++ . ./cri-common +++ . ./cri-getconfig +++ umask 002 +++ getrepos ++++ getconfig Repos ++++ perl -e ' use Osstest; readglobalconfig(); print $c{"Repos"} or die $!; ' +++ local repos=/home/osstest/repos +++ '[' -z /home/osstest/repos ']' +++ '[' '!' -d /home/osstest/repos ']' +++ echo /home/osstest/repos ++ repos=/home/osstest/repos ++ repos_lock=/home/osstest/repos/lock ++ '[' x '!=' x/home/osstest/repos/lock ']' ++ OSSTEST_REPOS_LOCK_LOCKED=/home/osstest/repos/lock ++ exec with-lock-ex -w /home/osstest/repos/lock ./ap-push xen-unstable-coverity 803c5a2a42e7c72a4c848e0f0106a941b758a91f + branch=xen-unstable-coverity + revision=803c5a2a42e7c72a4c848e0f0106a941b758a91f + . ./cri-lock-repos ++ . ./cri-common +++ . ./cri-getconfig +++ umask 002 +++ getrepos ++++ getconfig Repos ++++ perl -e ' use Osstest; readglobalconfig(); print $c{"Repos"} or die $!; ' +++ local repos=/home/osstest/repos +++ '[' -z /home/osstest/repos ']' +++ '[' '!' -d /home/osstest/repos ']' +++ echo /home/osstest/repos ++ repos=/home/osstest/repos ++ repos_lock=/home/osstest/repos/lock ++ '[' x/home/osstest/repos/lock '!=' x/home/osstest/repos/lock ']' + . ./cri-common ++ . ./cri-getconfig ++ umask 002 + select_xenbranch + case "$branch" in + tree=xen + xenbranch=xen-unstable-coverity + qemuubranch=qemu-upstream-unstable-coverity + qemuubranch=qemu-upstream-unstable + '[' xxen = xlinux ']' + linuxbranch= + '[' xqemu-upstream-unstable = x ']' + select_prevxenbranch ++ ./cri-getprevxenbranch xen-unstable-coverity + prevxenbranch=xen-4.9-testing + '[' x803c5a2a42e7c72a4c848e0f0106a941b758a91f = x ']' + : tested/2.6.39.x + . ./ap-common ++ : osst...@xenbits.xen.org +++ getconfig OsstestUpstream +++ perl -e ' use Osstest; readglobalconfig(); print $c{"OsstestUpstream"} or die $!; ' ++ : ++ : git://xenbits.xen.org/xen.git ++ : osst...@xenbits.xen.org:/home/xen/git/xen.git ++ : git://xenbits.xen.org/qemu-xen-traditional.git ++ : git://git.kernel.org ++ : git://git.kernel.org/pub/scm/linux/kernel/git ++ : git ++ : git://xenbits.xen.org/xtf.git ++ : osst...@xenbits.xen.org:/home/xen/git/xtf.git ++ : git://xenbits.xen.org/xtf.git ++ : git://xenbits.xen.org/libvirt.git ++ : osst...@xenbits.xen.org:/home/xen/git/libvirt.git ++ : git://xenbits.xen.org/libvirt.git ++ : git://xenbits.xen.org/osstest/rumprun.git ++ : git ++ : git://xenbits.xen.org/osstest/rumprun.git ++ : osst...@xenbits.xen.org:/home/xen/git/osstest/rumprun.git ++ : git://git.seabios.org/seabios.git ++ : osst...@xenbits.xen.org:/home/xen/git/osstest/seabios.git ++ : git://xenbits.xen.org/osstest/seabios.git ++ : https://github.com/tianocore/edk2.git ++ : osst...@xenbits.xen.org:/home/xen/git/osstest/ovmf.git ++ : git://xenbits.xen.org/osstest/ovmf.git ++ : git://xenbits.xen.org/osstest/linux-firmware.git ++ : osst...@xenbits.xen.org:/home/osstest/ext/linux-firmware.git ++ : git://git.kernel.org/pub/scm/linux/kernel/git/firmware/linux-firmware.git ++ : osst...@xenbits.xen.org:/home/xen/git/linux-pvops.git ++ : git://xenbits.xen.org/linux-pvops.git ++ : tested/linux-4.9 ++ : tested/linux-arm-xen ++ '[' xgit://xenbits.xen.org/linux-pvops.git = x ']' ++ '[' x = x ']' ++ : git://xenbits.xen.org/linux-pvops.git ++ : tested/linux-arm-xen ++ : git://git.kernel.org/pub/scm/linux/kernel/git/konrad/xen.git ++ : tested/2.6.39.x ++ : daily-cron.xen-unstable-coverity ++ : daily-cron.xen-unstable-coverity ++ : daily-cron.xen-unstable-coverity ++ : daily-cron.xen-unstable-coverity ++ : daily-cron.xen-unstable-coverity ++ : daily-cron.xen-unstable-coverity ++ : daily-cron.xen-unstable-coverity ++ : http://hg.uk.xensource.com/carbon/trunk/linux-2.6.27 ++ : git://xenbits.xen.org/qemu-xen.git ++ : osst...@xenbits.xen.org:/home/xen/git/qemu-xen.git ++ : daily-cron.xen-unstable-coverity ++ : git://xenbits.xen.org/qemu-xen.git ++ : git://git.qemu.org/qemu.git + TREE_LINUX=osst...@xenbits.xen.org:/home/xen/git/linux-pvops.git + TREE_QEMU_UPSTREAM=osst...@xenbits.xen.org:/home/xen/git/qemu-xen.git + TREE_XEN=osst...@xenbits.xen.org:/home/xen/git/xen.git + TREE_LIBVIRT=osst...@xenbits.xen.org:/home/xen/git/libvirt.git + TREE_RUMPRUN=osst...@xenbits.xen.org:/home/xen/git/osstest/rumprun.git + TREE_SEABIOS=osst...@xenbits.xen.org:/home/xen/git/osstest/seabios.git + TREE_OVMF=osst...@xenbits.xen.org:/home/xen/git/osstest/ovmf.git + TREE_XTF=osst...@xenbits.xen.org:/home/xen/git/xtf.git + info_linux_tree xen-unstable-coverity + case $1 in + return 1 + case "$branch" in + cd /home/osstest/repos/xen + git push osst...@xenbits.xen.org:/home/xen/git/xen.git 803c5a2a42e7c72a4c848e0f0106a941b758a91f:refs/heads/coverity-tested/smoke To osst...@xenbits.xen.org:/home/xen/git/xen.git 4a0485c..803c5a2 803c5a2a42e7c72a4c848e0f0106a941b758a91f -> coverity-tested/smoke
_______________________________________________ Xen-devel mailing list Xen-devel@lists.xen.org https://lists.xen.org/xen-devel