This run is configured for baseline tests only.

flight 71120 ovmf real [real]
http://osstest.xs.citrite.net/~osstest/testlogs/logs/71120/

Perfect :-)
All tests in this flight passed as required
version targeted for testing:
 ovmf                 6e7ec25aaaf0dfc2b4c84ffd4c7ee7cd442aecb6
baseline version:
 ovmf                 89ad870fbff03a511102c73773000f2bea2017d2

Last test of basis    71114  2017-03-28 17:46:51 Z    1 days
Testing same since    71120  2017-03-29 21:52:07 Z    0 days    1 attempts

------------------------------------------------------------
People who touched revisions under test:
  Ard Biesheuvel <ard.biesheu...@linaro.org>
  Bell Song <binx.s...@intel.com>
  David Woodhouse <dw...@infradead.org>
  Gary Lin <g...@suse.com>
  Laszlo Ersek <ler...@redhat.com>
  Liming Gao <liming....@intel.com>
  Qin Long <qin.l...@intel.com>
  Ruiyu Ni <ruiyu...@intel.com>
  Song, BinX <binx.s...@intel.com>
  Yonghong Zhu <yonghong....@intel.com>

jobs:
 build-amd64-xsm                                              pass    
 build-i386-xsm                                               pass    
 build-amd64                                                  pass    
 build-i386                                                   pass    
 build-amd64-libvirt                                          pass    
 build-i386-libvirt                                           pass    
 build-amd64-pvops                                            pass    
 build-i386-pvops                                             pass    
 test-amd64-amd64-xl-qemuu-ovmf-amd64                         pass    
 test-amd64-i386-xl-qemuu-ovmf-amd64                          pass    


------------------------------------------------------------
sg-report-flight on osstest.xs.citrite.net
logs: /home/osstest/logs
images: /home/osstest/images

Logs, config files, etc. are available at
    http://osstest.xs.citrite.net/~osstest/testlogs/logs

Test harness code can be found at
    http://xenbits.xensource.com/gitweb?p=osstest.git;a=summary


Push not applicable.

(No revision log; it would be 427 lines long.)

_______________________________________________
Xen-devel mailing list
Xen-devel@lists.xen.org
https://lists.xen.org/xen-devel

Reply via email to