This run is configured for baseline tests only.

flight 71026 ovmf real [real]
http://osstest.xs.citrite.net/~osstest/testlogs/logs/71026/

Failures and problems with tests :-(

Tests which did not succeed and are blocking,
including tests which could not be run:
 test-amd64-i386-xl-qemuu-ovmf-amd64  2 hosts-allocate   broken REGR. vs. 68602
 test-amd64-amd64-xl-qemuu-ovmf-amd64  2 hosts-allocate  broken REGR. vs. 68602

version targeted for testing:
 ovmf                 3df29b5d16d39b335b7daca625b3781e1da9920c
baseline version:
 ovmf                 e0307a7dad02aa8c0cd8b3b0b9edce8ddb3fef2e

Last test of basis    68602  2017-02-22 10:16:50 Z   26 days
Testing same since    71026  2017-03-20 11:23:09 Z    0 days    1 attempts

------------------------------------------------------------
People who touched revisions under test:
  Anthony PERARD <anthony.per...@citrix.com>
  Ard Biesheuvel <ard.biesheu...@linaro.org>
  Bi, Dandan <dandan...@intel.com>
  Brijesh Singh <brijesh.si...@amd.com>
  Chao Zhang <chao.b.zh...@intel.com>
  Chen A Chen <chen.a.c...@intel.com>
  Dandan Bi <dandan...@intel.com>
  edk2-devel On Behalf Of rthomaiy <[mailto:edk2-devel-boun...@lists.01.org]>
  Feng Tian <feng.t...@intel.com>
  Fu Siyuan <siyuan...@intel.com>
  Hao Wu <hao.a...@intel.com>
  Hegde Nagaraj P <nagaraj-p.he...@hpe.com>
  Hess Chen <hesheng.c...@intel.com>
  Jeff Fan <jeff....@intel.com>
  Jeff Westfahl <jeff.westf...@ni.com>
  Jiaxin Wu <jiaxin...@intel.com>
  Jiewen Yao <jiewen....@intel.com>
  Jordan Justen <jordan.l.jus...@intel.com>
  Laszlo Ersek <ler...@redhat.com>
  Leo Duran <leo.du...@amd.com>
  Marvin Haeuser <marvin.haeu...@outlook.com>
  Marvin Häuser <marvin.haeu...@outlook.com>
  Michael Zimmermann <sigmaepsilo...@gmail.com>
  Paolo Bonzini <pbonz...@redhat.com>
  Qin Long <qin.l...@intel.com>
  Richard Thomaiyar <richard.marian.thomai...@intel.com>
  Ruiyu Ni <ruiyu...@intel.com>
  Ryan Harkin <ryan.har...@linaro.org>
  Star Zeng <star.z...@intel.com>
  Thomaiyar, Richard Marian <richard.marian.thomai...@intel.com>
  Wu Jiaxin <jiaxin...@intel.com>
  Yonghong Zhu <yonghong....@intel.com>
  Zhang Lubo <lubo.zh...@intel.com>
  Zhang, Chao B <chao.b.zh...@intel.com>
  Zhang, Lubo <lubo.zh...@intel.com>

jobs:
 build-amd64-xsm                                              pass    
 build-i386-xsm                                               pass    
 build-amd64                                                  pass    
 build-i386                                                   pass    
 build-amd64-libvirt                                          pass    
 build-i386-libvirt                                           pass    
 build-amd64-pvops                                            pass    
 build-i386-pvops                                             pass    
 test-amd64-amd64-xl-qemuu-ovmf-amd64                         broken  
 test-amd64-i386-xl-qemuu-ovmf-amd64                          broken  


------------------------------------------------------------
sg-report-flight on osstest.xs.citrite.net
logs: /home/osstest/logs
images: /home/osstest/images

Logs, config files, etc. are available at
    http://osstest.xs.citrite.net/~osstest/testlogs/logs

Test harness code can be found at
    http://xenbits.xensource.com/gitweb?p=osstest.git;a=summary

broken-step test-amd64-i386-xl-qemuu-ovmf-amd64 hosts-allocate
broken-step test-amd64-amd64-xl-qemuu-ovmf-amd64 hosts-allocate

Push not applicable.

(No revision log; it would be 4897 lines long.)

_______________________________________________
Xen-devel mailing list
Xen-devel@lists.xen.org
https://lists.xen.org/xen-devel

Reply via email to