flight 106745 ovmf real [real] http://logs.test-lab.xenproject.org/osstest/logs/106745/
Perfect :-) All tests in this flight passed as required version targeted for testing: ovmf 01eb3f39bbcc5b6474d69cff3922be8eb1856636 baseline version: ovmf e0307a7dad02aa8c0cd8b3b0b9edce8ddb3fef2e Last test of basis 105963 2017-02-21 21:43:31 Z 24 days Failing since 105980 2017-02-22 10:03:53 Z 23 days 62 attempts Testing same since 106745 2017-03-17 11:54:42 Z 0 days 1 attempts ------------------------------------------------------------ People who touched revisions under test: Anthony PERARD <anthony.per...@citrix.com> Ard Biesheuvel <ard.biesheu...@linaro.org> Bi, Dandan <dandan...@intel.com> Brijesh Singh <brijesh.si...@amd.com> Chao Zhang <chao.b.zh...@intel.com> Chen A Chen <chen.a.c...@intel.com> Dandan Bi <dandan...@intel.com> edk2-devel On Behalf Of rthomaiy <[mailto:edk2-devel-boun...@lists.01.org]> Feng Tian <feng.t...@intel.com> Fu Siyuan <siyuan...@intel.com> Hao Wu <hao.a...@intel.com> Hegde Nagaraj P <nagaraj-p.he...@hpe.com> Hess Chen <hesheng.c...@intel.com> Jeff Fan <jeff....@intel.com> Jeff Westfahl <jeff.westf...@ni.com> Jiaxin Wu <jiaxin...@intel.com> Jiewen Yao <jiewen....@intel.com> Jordan Justen <jordan.l.jus...@intel.com> Laszlo Ersek <ler...@redhat.com> Leo Duran <leo.du...@amd.com> Marvin Haeuser <marvin.haeu...@outlook.com> Marvin Häuser <marvin.haeu...@outlook.com> Michael Zimmermann <sigmaepsilo...@gmail.com> Paolo Bonzini <pbonz...@redhat.com> Qin Long <qin.l...@intel.com> Richard Thomaiyar <richard.marian.thomai...@intel.com> Ruiyu Ni <ruiyu...@intel.com> Ryan Harkin <ryan.har...@linaro.org> Star Zeng <star.z...@intel.com> Thomaiyar, Richard Marian <richard.marian.thomai...@intel.com> Wu Jiaxin <jiaxin...@intel.com> Yonghong Zhu <yonghong....@intel.com> Zhang Lubo <lubo.zh...@intel.com> Zhang, Chao B <chao.b.zh...@intel.com> Zhang, Lubo <lubo.zh...@intel.com> jobs: build-amd64-xsm pass build-i386-xsm pass build-amd64 pass build-i386 pass build-amd64-libvirt pass build-i386-libvirt pass build-amd64-pvops pass build-i386-pvops pass test-amd64-amd64-xl-qemuu-ovmf-amd64 pass test-amd64-i386-xl-qemuu-ovmf-amd64 pass ------------------------------------------------------------ sg-report-flight on osstest.test-lab.xenproject.org logs: /home/logs/logs images: /home/logs/images Logs, config files, etc. are available at http://logs.test-lab.xenproject.org/osstest/logs Explanation of these reports, and of osstest in general, is at http://xenbits.xen.org/gitweb/?p=osstest.git;a=blob;f=README.email;hb=master http://xenbits.xen.org/gitweb/?p=osstest.git;a=blob;f=README;hb=master Test harness code can be found at http://xenbits.xen.org/gitweb?p=osstest.git;a=summary Pushing revision : + branch=ovmf + revision=01eb3f39bbcc5b6474d69cff3922be8eb1856636 + . ./cri-lock-repos ++ . ./cri-common +++ . ./cri-getconfig +++ umask 002 +++ getrepos ++++ getconfig Repos ++++ perl -e ' use Osstest; readglobalconfig(); print $c{"Repos"} or die $!; ' +++ local repos=/home/osstest/repos +++ '[' -z /home/osstest/repos ']' +++ '[' '!' -d /home/osstest/repos ']' +++ echo /home/osstest/repos ++ repos=/home/osstest/repos ++ repos_lock=/home/osstest/repos/lock ++ '[' x '!=' x/home/osstest/repos/lock ']' ++ OSSTEST_REPOS_LOCK_LOCKED=/home/osstest/repos/lock ++ exec with-lock-ex -w /home/osstest/repos/lock ./ap-push ovmf 01eb3f39bbcc5b6474d69cff3922be8eb1856636 + branch=ovmf + revision=01eb3f39bbcc5b6474d69cff3922be8eb1856636 + . ./cri-lock-repos ++ . ./cri-common +++ . ./cri-getconfig +++ umask 002 +++ getrepos ++++ getconfig Repos ++++ perl -e ' use Osstest; readglobalconfig(); print $c{"Repos"} or die $!; ' +++ local repos=/home/osstest/repos +++ '[' -z /home/osstest/repos ']' +++ '[' '!' -d /home/osstest/repos ']' +++ echo /home/osstest/repos ++ repos=/home/osstest/repos ++ repos_lock=/home/osstest/repos/lock ++ '[' x/home/osstest/repos/lock '!=' x/home/osstest/repos/lock ']' + . ./cri-common ++ . ./cri-getconfig ++ umask 002 + select_xenbranch + case "$branch" in + tree=ovmf + xenbranch=xen-unstable + '[' xovmf = xlinux ']' + linuxbranch= + '[' x = x ']' + qemuubranch=qemu-upstream-unstable + select_prevxenbranch ++ ./cri-getprevxenbranch xen-unstable + prevxenbranch=xen-4.8-testing + '[' x01eb3f39bbcc5b6474d69cff3922be8eb1856636 = x ']' + : tested/2.6.39.x + . ./ap-common ++ : osst...@xenbits.xen.org +++ getconfig OsstestUpstream +++ perl -e ' use Osstest; readglobalconfig(); print $c{"OsstestUpstream"} or die $!; ' ++ : ++ : git://xenbits.xen.org/xen.git ++ : osst...@xenbits.xen.org:/home/xen/git/xen.git ++ : git://xenbits.xen.org/qemu-xen-traditional.git ++ : git://git.kernel.org ++ : git://git.kernel.org/pub/scm/linux/kernel/git ++ : git ++ : git://xenbits.xen.org/xtf.git ++ : osst...@xenbits.xen.org:/home/xen/git/xtf.git ++ : git://xenbits.xen.org/xtf.git ++ : git://xenbits.xen.org/libvirt.git ++ : osst...@xenbits.xen.org:/home/xen/git/libvirt.git ++ : git://xenbits.xen.org/libvirt.git ++ : git://xenbits.xen.org/osstest/rumprun.git ++ : git ++ : git://xenbits.xen.org/osstest/rumprun.git ++ : osst...@xenbits.xen.org:/home/xen/git/osstest/rumprun.git ++ : git://git.seabios.org/seabios.git ++ : osst...@xenbits.xen.org:/home/xen/git/osstest/seabios.git ++ : git://xenbits.xen.org/osstest/seabios.git ++ : https://github.com/tianocore/edk2.git ++ : osst...@xenbits.xen.org:/home/xen/git/osstest/ovmf.git ++ : git://xenbits.xen.org/osstest/ovmf.git ++ : git://xenbits.xen.org/osstest/linux-firmware.git ++ : osst...@xenbits.xen.org:/home/osstest/ext/linux-firmware.git ++ : git://git.kernel.org/pub/scm/linux/kernel/git/firmware/linux-firmware.git ++ : osst...@xenbits.xen.org:/home/xen/git/linux-pvops.git ++ : git://xenbits.xen.org/linux-pvops.git ++ : tested/linux-3.14 ++ : tested/linux-arm-xen ++ '[' xgit://xenbits.xen.org/linux-pvops.git = x ']' ++ '[' x = x ']' ++ : git://xenbits.xen.org/linux-pvops.git ++ : tested/linux-arm-xen ++ : git://git.kernel.org/pub/scm/linux/kernel/git/konrad/xen.git ++ : tested/2.6.39.x ++ : daily-cron.ovmf ++ : daily-cron.ovmf ++ : daily-cron.ovmf ++ : daily-cron.ovmf ++ : daily-cron.ovmf ++ : daily-cron.ovmf ++ : daily-cron.ovmf ++ : http://hg.uk.xensource.com/carbon/trunk/linux-2.6.27 ++ : git://xenbits.xen.org/qemu-xen.git ++ : osst...@xenbits.xen.org:/home/xen/git/qemu-xen.git ++ : daily-cron.ovmf ++ : git://xenbits.xen.org/qemu-xen.git ++ : git://git.qemu.org/qemu.git + TREE_LINUX=osst...@xenbits.xen.org:/home/xen/git/linux-pvops.git + TREE_QEMU_UPSTREAM=osst...@xenbits.xen.org:/home/xen/git/qemu-xen.git + TREE_XEN=osst...@xenbits.xen.org:/home/xen/git/xen.git + TREE_LIBVIRT=osst...@xenbits.xen.org:/home/xen/git/libvirt.git + TREE_RUMPRUN=osst...@xenbits.xen.org:/home/xen/git/osstest/rumprun.git + TREE_SEABIOS=osst...@xenbits.xen.org:/home/xen/git/osstest/seabios.git + TREE_OVMF=osst...@xenbits.xen.org:/home/xen/git/osstest/ovmf.git + TREE_XTF=osst...@xenbits.xen.org:/home/xen/git/xtf.git + info_linux_tree ovmf + case $1 in + return 1 + case "$branch" in + cd /home/osstest/repos/ovmf + git push osst...@xenbits.xen.org:/home/xen/git/osstest/ovmf.git 01eb3f39bbcc5b6474d69cff3922be8eb1856636:refs/heads/xen-tested-master To osst...@xenbits.xen.org:/home/xen/git/osstest/ovmf.git e0307a7..01eb3f3 01eb3f39bbcc5b6474d69cff3922be8eb1856636 -> xen-tested-master
_______________________________________________ Xen-devel mailing list Xen-devel@lists.xen.org https://lists.xen.org/xen-devel