BEGIN:VCALENDAR
VERSION:2.0
PRODID:-//Microsoft Corporation//Outlook for Mac MIMEDIR//EN
METHOD:REQUEST
BEGIN:VTIMEZONE
TZID:北京,重庆,香港特别行政区,乌鲁木齐
X-ENTOURAGE-CFTIMEZONE:Asia/Hong_Kong
X-ENTOURAGE-TZID:39
BEGIN:STANDARD
TZOFFSETFROM:+0800
TZOFFSETTO:+0800
DTSTART:16010101T000000
END:STANDARD
END:VTIMEZONE
BEGIN:VEVENT
UID:EB12C3F7-4254-492C-9A68-4416ECD4DC32
X-ENTOURAGE_UUID:EB12C3F7-4254-492C-9A68-4416ECD4DC32
DTSTAMP:20180731T075244Z
DTSTART;TZID=北京,重庆,香港特别行政区,乌鲁木齐:201808
01T110000
DTEND;TZID=北京,重庆,香港特别行政区,乌鲁木齐:20180801
T120000
LAST-MODIFIED:20180731T075244Z
SUMMARY:[opnfv-tech-discuss] [C-RAN] C-RAN meeting
DESCRIPTION:Dear all\,\n\n Let us discuss the OPAE proposal
tomorrow.\n\nBest wishes\,\n\nRongwei Ren\n\n \n
LOCATION:https://zoom.us/j/483547548
ORGANIZER:MAILTO:[email protected]
SEQUENCE:0
ATTENDEE;ROLE=REQ-PARTICIPANT;RSVP=TRUE;[email protected].
org;PARTSTAT=NEEDS-ACTION:MAILTO:[email protected]
ATTENDEE;ROLE=REQ-PARTICIPANT;RSVP=TRUE;CN="Feng Feng24
Liu";PARTSTAT=NEEDS-ACTION:MAILTO:[email protected]
ATTENDEE;ROLE=REQ-PARTICIPANT;RSVP=TRUE;CN="Bo Bo8
Zhou";PARTSTAT=NEEDS-ACTION:MAILTO:[email protected]
ATTENDEE;ROLE=REQ-PARTICIPANT;RSVP=TRUE;CN="Zhang,
Xiaohua";PARTSTAT=NEEDS-ACTION:MAILTO:[email protected]
ATTENDEE;ROLE=REQ-PARTICIPANT;RSVP=TRUE;CN="Li,
Baoqian";PARTSTAT=NEEDS-ACTION:MAILTO:[email protected]
ATTENDEE;ROLE=REQ-PARTICIPANT;RSVP=TRUE;PARTSTAT=NEEDS-ACTION:MAILTO:tapio
[email protected]
ATTENDEE;ROLE=REQ-PARTICIPANT;RSVP=TRUE;PARTSTAT=NEEDS-ACTION:MAILTO:opnfv
[email protected]
ATTENDEE;ROLE=REQ-PARTICIPANT;RSVP=TRUE;PARTSTAT=NEEDS-ACTION:MAILTO:pvaan
[email protected]
ATTENDEE;ROLE=REQ-PARTICIPANT;RSVP=TRUE;PARTSTAT=NEEDS-ACTION:MAILTO:tapio
[email protected]
X-MICROSOFT-CDO-BUSYSTATUS:BUSY
X-MICROSOFT-CDO-ALLDAYEVENT:FALSE
X-MICROSOFT-DISALLOW-COUNTER:TRUE
X-MICROSOFT-CDO-INSTTYPE:0
BEGIN:VALARM
ACTION:DISPLAY
DESCRIPTION:REMINDER
TRIGGER;RELATED=START:-PT00H15M00S
END:VALARM
END:VEVENT
END:VCALENDAR