Workbook

Sheet RR1
A1: Prosser 2010
A2: NY Maritime College
A3: Round Robin 1
B5: HWS | C5: Georgetown | D5: King's Point | E5: Navy | F5: NY Maritime | G5: ODU | H5: St. Mary's | I5: WAC | J5: Win | K5: Loss
A6: HWS | C6: L | D6: W | E6: W | F6: W | G6: L | H6: L | I6: W | J6: 4 | K6: 3
A7: Georgetown | B7: W | D7: W | E7: W | F7: W | G7: W | H7: L | I7: W | J7: 6 | K7: 1
A8: King's Point | B8: L | C8: L | E8: L | F8: L | G8: W | H8: L | I8: W | J8: 2 | K8: 5
A9: Navy | B9: L | C9: L | D9: W | F9: W | G9: W | H9: W | I9: W | J9: 5 | K9: 2
A10: NY Maritime | B10: L | C10: L | D10: W | E10: L | G10: W | H10: L | I10: W | J10: 3 | K10: 4
A11: ODU | B11: W | C11: L | D11: L | E11: L | F11: L | H11: L | I11: W | J11: 2 | K11: 5
A12: St. Mary's | B12: W | C12: W | D12: W | E12: L | F12: W | G12: W | I12: W | J12: 6 | K12: 1
A13: WAC | B13: L | C13: L | D13: L | E13: L | F13: L | G13: L | H13: L | J13: 0 | K13: 7
C16: Win | D16: Loss
A17: HWS | C17: =J6 -> 4 | D17: =K6 -> 3
A18: Georgetown | C18: =J7 -> 6 | D18: =K7 -> 1
A19: King's Point | C19: =J8 -> 2 | D19: =K8 -> 5
A20: Navy | C20: =J9 -> 5 | D20: =K9 -> 2
A21: NY Maritime | C21: =J10 -> 3 | D21: =K10 -> 4
A22: ODU | C22: =J11 -> 2 | D22: =K11 -> 5
A23: St. Mary's | C23: =J12 -> 6 | D23: =K12 -> 1
A24: WAC | C24: =J13 -> 0 | D24: =K13 -> 7

Sheet RR2
A1: Prosser 2010
A2: NY Maritime College
A3: Round Robin 2
B5: HWS | C5: Georgetown | D5: King's Point | E5: Navy | F5: NY Maritime | G5: ODU | H5: St. Mary's | I5: WAC | J5: Win | K5: Loss
A6: HWS | C6: L | D6: W | E6: L | F6: L | G6: W | H6: L | I6: W | J6: 3 | K6: 4
A7: Georgetown | B7: W | D7: W | E7: W | F7: W | G7: W | H7: W | I7: W | J7: 7 | K7: 0
A8: King's Point | B8: L | C8: L | E8: L | F8: W | G8: L | H8: L | I8: W | J8: 2 | K8: 5
A9: Navy | B9: W | C9: L | D9: W | F9: W | G9: W | H9: L | I9: W | J9: 5 | K9: 2
A10: NY Maritime | B10: W | C10: L | D10: L | E10: L | G10: L | H10: L | I10: W | J10: 2 | K10: 5
A11: ODU | B11: L | C11: L | D11: W | E11: L | F11: W | H11: L | I11: W | J11: 3 | K11: 4
A12: St. Mary's | B12: W | C12: L | D12: W | E12: W | F12: W | G12: W | I12: W | J12: 6 | K12: 1
A13: WAC | B13: L | C13: L | D13: L | E13: L | F13: L | G13: L | H13: L | J13: 0 | K13: 7
C16: Win | D16: Loss
A17: HWS | C17: =J6 -> 3 | D17: =K6 -> 4
A18: Georgetown | C18: =J7 -> 7 | D18: =K7 -> 0
A19: King's Point | C19: =J8 -> 2 | D19: =K8 -> 5
A20: Navy | C20: =J9 -> 5 | D20: =K9 -> 2
A21: NY Maritime | C21: =J10 -> 2 | D21: =K10 -> 5
A22: ODU | C22: =J11 -> 3 | D22: =K11 -> 4
A23: St. Mary's | C23: =J12 -> 6 | D23: =K12 -> 1
A24: WAC | C24: =J13 -> 0 | D24: =K13 -> 7

Sheet Totals
A1: Teams | B1: Total W | C1: Total L
A2: Georgetown | B2: ='RR1'!J7+'RR2'!J7 -> 13 | C2: ='RR1'!K7+'RR2'!K7 -> 1
A3: St. Mary's | B3: ='RR1'!J12+'RR2'!J12 -> 12 | C3: ='RR1'!K12+'RR2'!K12 -> 2
A4: Navy | B4: ='RR1'!J9+'RR2'!J9 -> 10 | C4: ='RR1'!K9+'RR2'!K9 -> 4
A5: HWS | B5: ='RR1'!J6+'RR2'!J6 -> 7 | C5: ='RR1'!K6+'RR2'!K6 -> 7
A6: NY Maritime | B6: ='RR1'!J10+'RR2'!J10 -> 5 | C6: ='RR1'!K10+'RR2'!K10 -> 9
A7: ODU | B7: ='RR1'!J11+'RR2'!J11 -> 5 | C7: ='RR1'!K11+'RR2'!K11 -> 9
A8: King's Point | B8: ='RR1'!J8+'RR2'!J8 -> 4 | C8: ='RR1'!K8+'RR2'!K8 -> 10
A9: WAC | B9: ='RR1'!J13+'RR2'!J13 -> 0 | C9: ='RR1'!K13+'RR2'!K13 -> 14

Sheet Final 4
A1: Prosser 2010
A2: NY Maritime College
A3: Final 4
B6: =B14 -> Team 1 | C6: =B15 -> Team 2 | D6: =B16 -> Team 3 | E6: =B17 -> Team 4 | F6: Win | G6: Loss
A7: =B14 -> Team 1
A8: =B15 -> Team 2
A9: =B16 -> Team 3
A10: =B17 -> Team 4
D13: Win | E13: Loss
B14: Team 1 | D14: =F7 -> 0 | E14: =G7 -> 0
B15: Team 2 | D15: =F8 -> 0 | E15: =G8 -> 0
B16: Team 3 | D16: =F9 -> 0 | E16: =G9 -> 0
B17: Team 4 | D17: =F10 -> 0 | E17: =G10 -> 0
