{"text_format":"1","workbook":"xlsx","n_sheets":3,"sheets":["Report","base data","Sheet1"],"not_rendered":{"charts":0,"images":0,"macros":1,"external_links":0,"defined_names":10,"comments":0,"pivot_tables":0},"unopened":[],"bounds":{"document_bytes":16777216,"sheet_cells":100000,"rows_first":2000,"rows_last":500,"rows_between":2000,"halvings":0,"cell_chars":16384,"cell_head_chars":4096},"cells_cut":0,"cells_raw":0,"read":"whole","date_system":"1900"}

{"sheet":"Report","index":0,"n_rows":9,"n_cols":2,"rows_kept":9,"cut":false,"hidden":false,"merged":[]}
[]
[]
["Criterias"]
["domain","a"]
["project",456]
["ques","p1"]
[]
["Data"]
["name","Accuracy"]

{"sheet":"base data","index":1,"n_rows":7,"n_cols":7,"rows_kept":7,"cut":false,"hidden":false,"merged":[]}
["domain","Study ID","User Name2","Question ID","total","err","acc"]
["a",456,"rahul","p1",90,0,1]
["s",987,"monika","p2",67,1,0.9850746268656716]
["d",146,"ankit","o1",97,1,0.98969072164948457]
["a",123,"neha","o2",null,0,1]
["s",789,"jyoti","p1",72,1,0.98611111111111116]
["d",146,"jia","q1",12,1,0.98611111111111116]

{"sheet":"Sheet1","index":2,"n_rows":31,"n_cols":3,"rows_kept":31,"cut":false,"hidden":false,"merged":[]}
["domain","ID","ques"]
[null,null,{"$f":"INDEX(ques,MATCH(0,COUNTIF($C$1:C1,ques)+(Report!$B$4<>0)*(dmn<>Report!$B$4)+(Report!$B$5<>0)*(ID<>Report!$B$5),0))","v":"p1"}]
[{"$f":"INDEX(dmn,MATCH(0,COUNTIF($A$1:A1,dmn),0))","v":"a"},{"$f":"INDEX(ID,MATCH(0,COUNTIF($B$1:B1,ID)+(dmn<>Report!$B$4),0))","v":456},{"$f":"INDEX(ques,MATCH(0,COUNTIF($C$1:C2,ques)+(Report!$B$4<>0)*(dmn<>Report!$B$4)+(Report!$B$5<>0)*(ID<>Report!$B$5),0))","v":{"$error":"#N/A"}}]
[{"$f":"INDEX(dmn,MATCH(0,COUNTIF($A$1:A3,dmn),0))","v":"s"},{"$f":"INDEX(ID,MATCH(0,COUNTIF($B$1:B3,ID)+(dmn<>Report!$B$4),0))","v":123},{"$f":"INDEX(ques,MATCH(0,COUNTIF($C$1:C3,ques)+(Report!$B$4<>0)*(dmn<>Report!$B$4)+(Report!$B$5<>0)*(ID<>Report!$B$5),0))","v":{"$error":"#N/A"}}]
[{"$f":"INDEX(dmn,MATCH(0,COUNTIF($A$1:A4,dmn),0))","v":"d"},{"$f":"INDEX(ID,MATCH(0,COUNTIF($B$1:B4,ID)+(dmn<>Report!$B$4),0))","v":{"$error":"#N/A"}},{"$f":"INDEX(ques,MATCH(0,COUNTIF($C$1:C4,ques)+(Report!$B$4<>0)*(dmn<>Report!$B$4)+(Report!$B$5<>0)*(ID<>Report!$B$5),0))","v":{"$error":"#N/A"}}]
[{"$f":"INDEX(dmn,MATCH(0,COUNTIF($A$1:A5,dmn),0))","v":{"$error":"#N/A"}},{"$f":"INDEX(ID,MATCH(0,COUNTIF($B$1:B5,ID)+(dmn<>Report!$B$4),0))","v":{"$error":"#N/A"}},{"$f":"INDEX(ques,MATCH(0,COUNTIF($C$1:C5,ques)+(Report!$B$4<>0)*(dmn<>Report!$B$4)+(Report!$B$5<>0)*(ID<>Report!$B$5),0))","v":{"$error":"#N/A"}}]
[{"$f":"INDEX(dmn,MATCH(0,COUNTIF($A$1:A6,dmn),0))","v":{"$error":"#N/A"}},{"$f":"INDEX(ID,MATCH(0,COUNTIF($B$1:B6,ID)+(dmn<>Report!$B$4),0))","v":{"$error":"#N/A"}},{"$f":"INDEX(ques,MATCH(0,COUNTIF($C$1:C6,ques)+(Report!$B$4<>0)*(dmn<>Report!$B$4)+(Report!$B$5<>0)*(ID<>Report!$B$5),0))","v":{"$error":"#N/A"}}]
[{"$f":"INDEX(dmn,MATCH(0,COUNTIF($A$1:A7,dmn),0))","v":{"$error":"#N/A"}},{"$f":"INDEX(ID,MATCH(0,COUNTIF($B$1:B7,ID)+(dmn<>Report!$B$4),0))","v":{"$error":"#N/A"}},{"$f":"INDEX(ques,MATCH(0,COUNTIF($C$1:C7,ques)+(Report!$B$4<>0)*(dmn<>Report!$B$4)+(Report!$B$5<>0)*(ID<>Report!$B$5),0))","v":{"$error":"#N/A"}}]
[{"$f":"INDEX(dmn,MATCH(0,COUNTIF($A$1:A8,dmn),0))","v":{"$error":"#N/A"}},{"$f":"INDEX(ID,MATCH(0,COUNTIF($B$1:B8,ID)+(dmn<>Report!$B$4),0))","v":{"$error":"#N/A"}},{"$f":"INDEX(ques,MATCH(0,COUNTIF($C$1:C8,ques)+(Report!$B$4<>0)*(dmn<>Report!$B$4)+(Report!$B$5<>0)*(ID<>Report!$B$5),0))","v":{"$error":"#N/A"}}]
[{"$f":"INDEX(dmn,MATCH(0,COUNTIF($A$1:A9,dmn),0))","v":{"$error":"#N/A"}},{"$f":"INDEX(ID,MATCH(0,COUNTIF($B$1:B9,ID)+(dmn<>Report!$B$4),0))","v":{"$error":"#N/A"}},{"$f":"INDEX(ques,MATCH(0,COUNTIF($C$1:C9,ques)+(Report!$B$4<>0)*(dmn<>Report!$B$4)+(Report!$B$5<>0)*(ID<>Report!$B$5),0))","v":{"$error":"#N/A"}}]
[{"$f":"INDEX(dmn,MATCH(0,COUNTIF($A$1:A10,dmn),0))","v":{"$error":"#N/A"}},{"$f":"INDEX(ID,MATCH(0,COUNTIF($B$1:B10,ID)+(dmn<>Report!$B$4),0))","v":{"$error":"#N/A"}},{"$f":"INDEX(ques,MATCH(0,COUNTIF($C$1:C10,ques)+(Report!$B$4<>0)*(dmn<>Report!$B$4)+(Report!$B$5<>0)*(ID<>Report!$B$5),0))","v":{"$error":"#N/A"}}]
[{"$f":"INDEX(dmn,MATCH(0,COUNTIF($A$1:A11,dmn),0))","v":{"$error":"#N/A"}},{"$f":"INDEX(ID,MATCH(0,COUNTIF($B$1:B11,ID)+(dmn<>Report!$B$4),0))","v":{"$error":"#N/A"}},{"$f":"INDEX(ques,MATCH(0,COUNTIF($C$1:C11,ques)+(Report!$B$4<>0)*(dmn<>Report!$B$4)+(Report!$B$5<>0)*(ID<>Report!$B$5),0))","v":{"$error":"#N/A"}}]
[{"$f":"INDEX(dmn,MATCH(0,COUNTIF($A$1:A12,dmn),0))","v":{"$error":"#N/A"}},{"$f":"INDEX(ID,MATCH(0,COUNTIF($B$1:B12,ID)+(dmn<>Report!$B$4),0))","v":{"$error":"#N/A"}},{"$f":"INDEX(ques,MATCH(0,COUNTIF($C$1:C12,ques)+(Report!$B$4<>0)*(dmn<>Report!$B$4)+(Report!$B$5<>0)*(ID<>Report!$B$5),0))","v":{"$error":"#N/A"}}]
[{"$f":"INDEX(dmn,MATCH(0,COUNTIF($A$1:A13,dmn),0))","v":{"$error":"#N/A"}},{"$f":"INDEX(ID,MATCH(0,COUNTIF($B$1:B13,ID)+(dmn<>Report!$B$4),0))","v":{"$error":"#N/A"}},{"$f":"INDEX(ques,MATCH(0,COUNTIF($C$1:C13,ques)+(Report!$B$4<>0)*(dmn<>Report!$B$4)+(Report!$B$5<>0)*(ID<>Report!$B$5),0))","v":{"$error":"#N/A"}}]
[{"$f":"INDEX(dmn,MATCH(0,COUNTIF($A$1:A14,dmn),0))","v":{"$error":"#N/A"}},{"$f":"INDEX(ID,MATCH(0,COUNTIF($B$1:B14,ID)+(dmn<>Report!$B$4),0))","v":{"$error":"#N/A"}},{"$f":"INDEX(ques,MATCH(0,COUNTIF($C$1:C14,ques)+(Report!$B$4<>0)*(dmn<>Report!$B$4)+(Report!$B$5<>0)*(ID<>Report!$B$5),0))","v":{"$error":"#N/A"}}]
[{"$f":"INDEX(dmn,MATCH(0,COUNTIF($A$1:A15,dmn),0))","v":{"$error":"#N/A"}},{"$f":"INDEX(ID,MATCH(0,COUNTIF($B$1:B15,ID)+(dmn<>Report!$B$4),0))","v":{"$error":"#N/A"}},{"$f":"INDEX(ques,MATCH(0,COUNTIF($C$1:C15,ques)+(Report!$B$4<>0)*(dmn<>Report!$B$4)+(Report!$B$5<>0)*(ID<>Report!$B$5),0))","v":{"$error":"#N/A"}}]
[{"$f":"INDEX(dmn,MATCH(0,COUNTIF($A$1:A16,dmn),0))","v":{"$error":"#N/A"}},{"$f":"INDEX(ID,MATCH(0,COUNTIF($B$1:B16,ID)+(dmn<>Report!$B$4),0))","v":{"$error":"#N/A"}},{"$f":"INDEX(ques,MATCH(0,COUNTIF($C$1:C16,ques)+(Report!$B$4<>0)*(dmn<>Report!$B$4)+(Report!$B$5<>0)*(ID<>Report!$B$5),0))","v":{"$error":"#N/A"}}]
[{"$f":"INDEX(dmn,MATCH(0,COUNTIF($A$1:A17,dmn),0))","v":{"$error":"#N/A"}},{"$f":"INDEX(ID,MATCH(0,COUNTIF($B$1:B17,ID)+(dmn<>Report!$B$4),0))","v":{"$error":"#N/A"}},{"$f":"INDEX(ques,MATCH(0,COUNTIF($C$1:C17,ques)+(Report!$B$4<>0)*(dmn<>Report!$B$4)+(Report!$B$5<>0)*(ID<>Report!$B$5),0))","v":{"$error":"#N/A"}}]
[{"$f":"INDEX(dmn,MATCH(0,COUNTIF($A$1:A18,dmn),0))","v":{"$error":"#N/A"}},{"$f":"INDEX(ID,MATCH(0,COUNTIF($B$1:B18,ID)+(dmn<>Report!$B$4),0))","v":{"$error":"#N/A"}},{"$f":"INDEX(ques,MATCH(0,COUNTIF($C$1:C18,ques)+(Report!$B$4<>0)*(dmn<>Report!$B$4)+(Report!$B$5<>0)*(ID<>Report!$B$5),0))","v":{"$error":"#N/A"}}]
[{"$f":"INDEX(dmn,MATCH(0,COUNTIF($A$1:A19,dmn),0))","v":{"$error":"#N/A"}},{"$f":"INDEX(ID,MATCH(0,COUNTIF($B$1:B19,ID)+(dmn<>Report!$B$4),0))","v":{"$error":"#N/A"}},{"$f":"INDEX(ques,MATCH(0,COUNTIF($C$1:C19,ques)+(Report!$B$4<>0)*(dmn<>Report!$B$4)+(Report!$B$5<>0)*(ID<>Report!$B$5),0))","v":{"$error":"#N/A"}}]
[null,{"$f":"INDEX(ID,MATCH(0,COUNTIF($B$1:B20,ID)+(dmn<>Report!$B$4),0))","v":{"$error":"#N/A"}},{"$f":"INDEX(ques,MATCH(0,COUNTIF($C$1:C20,ques)+(Report!$B$4<>0)*(dmn<>Report!$B$4)+(Report!$B$5<>0)*(ID<>Report!$B$5),0))","v":{"$error":"#N/A"}}]
[null,{"$f":"INDEX(ID,MATCH(0,COUNTIF($B$1:B21,ID)+(dmn<>Report!$B$4),0))","v":{"$error":"#N/A"}},{"$f":"INDEX(ques,MATCH(0,COUNTIF($C$1:C21,ques)+(Report!$B$4<>0)*(dmn<>Report!$B$4)+(Report!$B$5<>0)*(ID<>Report!$B$5),0))","v":{"$error":"#N/A"}}]
[null,{"$f":"INDEX(ID,MATCH(0,COUNTIF($B$1:B22,ID)+(dmn<>Report!$B$4),0))","v":{"$error":"#N/A"}},{"$f":"INDEX(ques,MATCH(0,COUNTIF($C$1:C22,ques)+(Report!$B$4<>0)*(dmn<>Report!$B$4)+(Report!$B$5<>0)*(ID<>Report!$B$5),0))","v":{"$error":"#N/A"}}]
[null,{"$f":"INDEX(ID,MATCH(0,COUNTIF($B$1:B23,ID)+(dmn<>Report!$B$4),0))","v":{"$error":"#N/A"}},{"$f":"INDEX(ques,MATCH(0,COUNTIF($C$1:C23,ques)+(Report!$B$4<>0)*(dmn<>Report!$B$4)+(Report!$B$5<>0)*(ID<>Report!$B$5),0))","v":{"$error":"#N/A"}}]
[null,{"$f":"INDEX(ID,MATCH(0,COUNTIF($B$1:B24,ID)+(dmn<>Report!$B$4),0))","v":{"$error":"#N/A"}},{"$f":"INDEX(ques,MATCH(0,COUNTIF($C$1:C24,ques)+(Report!$B$4<>0)*(dmn<>Report!$B$4)+(Report!$B$5<>0)*(ID<>Report!$B$5),0))","v":{"$error":"#N/A"}}]
[null,{"$f":"INDEX(ID,MATCH(0,COUNTIF($B$1:B25,ID)+(dmn<>Report!$B$4),0))","v":{"$error":"#N/A"}}]
[null,{"$f":"INDEX(ID,MATCH(0,COUNTIF($B$1:B26,ID)+(dmn<>Report!$B$4),0))","v":{"$error":"#N/A"}}]
[null,{"$f":"INDEX(ID,MATCH(0,COUNTIF($B$1:B27,ID)+(dmn<>Report!$B$4),0))","v":{"$error":"#N/A"}}]
[null,{"$f":"INDEX(ID,MATCH(0,COUNTIF($B$1:B28,ID)+(dmn<>Report!$B$4),0))","v":{"$error":"#N/A"}}]
[null,{"$f":"INDEX(ID,MATCH(0,COUNTIF($B$1:B29,ID)+(dmn<>Report!$B$4),0))","v":{"$error":"#N/A"}}]
[null,{"$f":"INDEX(ID,MATCH(0,COUNTIF($B$1:B30,ID)+(dmn<>Report!$B$4),0))","v":{"$error":"#N/A"}}]